BEGIN:VCALENDAR
VERSION:2.0
PRODID:-//The Entrance Experience - ECPv6.15.20//NONSGML v1.0//EN
CALSCALE:GREGORIAN
METHOD:PUBLISH
X-WR-CALNAME:The Entrance Experience
X-ORIGINAL-URL:https://entranceexperience.com
X-WR-CALDESC:Events for The Entrance Experience
REFRESH-INTERVAL;VALUE=DURATION:PT1H
X-Robots-Tag:noindex
X-PUBLISHED-TTL:PT1H
BEGIN:VTIMEZONE
TZID:America/Chicago
BEGIN:DAYLIGHT
TZOFFSETFROM:-0600
TZOFFSETTO:-0500
TZNAME:CDT
DTSTART:20260308T080000
END:DAYLIGHT
BEGIN:STANDARD
TZOFFSETFROM:-0500
TZOFFSETTO:-0600
TZNAME:CST
DTSTART:20261101T070000
END:STANDARD
BEGIN:DAYLIGHT
TZOFFSETFROM:-0600
TZOFFSETTO:-0500
TZNAME:CDT
DTSTART:20270314T080000
END:DAYLIGHT
BEGIN:STANDARD
TZOFFSETFROM:-0500
TZOFFSETTO:-0600
TZNAME:CST
DTSTART:20271107T070000
END:STANDARD
BEGIN:DAYLIGHT
TZOFFSETFROM:-0600
TZOFFSETTO:-0500
TZNAME:CDT
DTSTART:20280312T080000
END:DAYLIGHT
BEGIN:STANDARD
TZOFFSETFROM:-0500
TZOFFSETTO:-0600
TZNAME:CST
DTSTART:20281105T070000
END:STANDARD
END:VTIMEZONE
BEGIN:VEVENT
DTSTART;TZID=America/Chicago:20270327T190000
DTEND;TZID=America/Chicago:20270327T233000
DTSTAMP:20260422T171931
CREATED:20260103T164521Z
LAST-MODIFIED:20260103T164848Z
UID:10000606-1806174000-1806190200@entranceexperience.com
SUMMARY:Front & Center Saturdays
DESCRIPTION:
URL:https://entranceexperience.com/event/front-center-saturdays/2027-03-27/
LOCATION:The Entrance (Front Entrance)\, 15101 Dixie Highway\, Harvey\, IL\, 60426\, United States
CATEGORIES:Party
ATTACH;FMTTYPE=image/png:https://entranceexperience.com/wp-content/uploads/2026/01/Front-Center-Saturdays.png
ORGANIZER;CN="The Entrance":MAILTO:info@entranceexperience.com
END:VEVENT
BEGIN:VEVENT
DTSTART;TZID=America/Chicago:20270326T150000
DTEND;TZID=America/Chicago:20270326T190000
DTSTAMP:20260422T171931
CREATED:20260303T000210Z
LAST-MODIFIED:20260303T000211Z
UID:10000922-1806073200-1806087600@entranceexperience.com
SUMMARY:Happy Hour Special
DESCRIPTION:Slide through for the best Happy Hour in the city \n3–7PM • Tue–Thu ½ off drinks • Fri ½ off apps + ½ off drinks
URL:https://entranceexperience.com/event/happy-hour-special/2027-03-26/
LOCATION:The Entrance (Front Entrance)\, 15101 Dixie Highway\, Harvey\, IL\, 60426\, United States
CATEGORIES:Weekday Event & Specials
ATTACH;FMTTYPE=image/png:https://entranceexperience.com/wp-content/uploads/2026/03/Happy-Hour-ENT.png
ORGANIZER;CN="The Entrance":MAILTO:info@entranceexperience.com
END:VEVENT
BEGIN:VEVENT
DTSTART;TZID=America/Chicago:20270325T150000
DTEND;TZID=America/Chicago:20270325T190000
DTSTAMP:20260422T171931
CREATED:20260303T000210Z
LAST-MODIFIED:20260303T000211Z
UID:10000921-1805986800-1806001200@entranceexperience.com
SUMMARY:Happy Hour Special
DESCRIPTION:Slide through for the best Happy Hour in the city \n3–7PM • Tue–Thu ½ off drinks • Fri ½ off apps + ½ off drinks
URL:https://entranceexperience.com/event/happy-hour-special/2027-03-25/
LOCATION:The Entrance (Front Entrance)\, 15101 Dixie Highway\, Harvey\, IL\, 60426\, United States
CATEGORIES:Weekday Event & Specials
ATTACH;FMTTYPE=image/png:https://entranceexperience.com/wp-content/uploads/2026/03/Happy-Hour-ENT.png
ORGANIZER;CN="The Entrance":MAILTO:info@entranceexperience.com
END:VEVENT
BEGIN:VEVENT
DTSTART;TZID=America/Chicago:20270324T150000
DTEND;TZID=America/Chicago:20270324T190000
DTSTAMP:20260422T171931
CREATED:20260303T000210Z
LAST-MODIFIED:20260303T000211Z
UID:10000920-1805900400-1805914800@entranceexperience.com
SUMMARY:Happy Hour Special
DESCRIPTION:Slide through for the best Happy Hour in the city \n3–7PM • Tue–Thu ½ off drinks • Fri ½ off apps + ½ off drinks
URL:https://entranceexperience.com/event/happy-hour-special/2027-03-24/
LOCATION:The Entrance (Front Entrance)\, 15101 Dixie Highway\, Harvey\, IL\, 60426\, United States
CATEGORIES:Weekday Event & Specials
ATTACH;FMTTYPE=image/png:https://entranceexperience.com/wp-content/uploads/2026/03/Happy-Hour-ENT.png
ORGANIZER;CN="The Entrance":MAILTO:info@entranceexperience.com
END:VEVENT
BEGIN:VEVENT
DTSTART;TZID=America/Chicago:20270323T190000
DTEND;TZID=America/Chicago:20270323T233000
DTSTAMP:20260422T171931
CREATED:20260103T165258Z
LAST-MODIFIED:20260103T165258Z
UID:10000670-1805828400-1805844600@entranceexperience.com
SUMMARY:Taco Tuesday & Game Night
DESCRIPTION:
URL:https://entranceexperience.com/event/taco-tuesday-game-night/2027-03-23/
LOCATION:The Entrance (Front Entrance)\, 15101 Dixie Highway\, Harvey\, IL\, 60426\, United States
CATEGORIES:Weekday Event & Specials
ATTACH;FMTTYPE=image/png:https://entranceexperience.com/wp-content/uploads/2026/01/Taco-Tuesday-Final.png
ORGANIZER;CN="The Entrance":MAILTO:info@entranceexperience.com
END:VEVENT
BEGIN:VEVENT
DTSTART;TZID=America/Chicago:20270323T150000
DTEND;TZID=America/Chicago:20270323T190000
DTSTAMP:20260422T171931
CREATED:20260303T000210Z
LAST-MODIFIED:20260303T000211Z
UID:10000919-1805814000-1805828400@entranceexperience.com
SUMMARY:Happy Hour Special
DESCRIPTION:Slide through for the best Happy Hour in the city \n3–7PM • Tue–Thu ½ off drinks • Fri ½ off apps + ½ off drinks
URL:https://entranceexperience.com/event/happy-hour-special/2027-03-23/
LOCATION:The Entrance (Front Entrance)\, 15101 Dixie Highway\, Harvey\, IL\, 60426\, United States
CATEGORIES:Weekday Event & Specials
ATTACH;FMTTYPE=image/png:https://entranceexperience.com/wp-content/uploads/2026/03/Happy-Hour-ENT.png
ORGANIZER;CN="The Entrance":MAILTO:info@entranceexperience.com
END:VEVENT
BEGIN:VEVENT
DTSTART;TZID=America/Chicago:20270320T190000
DTEND;TZID=America/Chicago:20270320T233000
DTSTAMP:20260422T171931
CREATED:20260103T164521Z
LAST-MODIFIED:20260103T164848Z
UID:10000605-1805569200-1805585400@entranceexperience.com
SUMMARY:Front & Center Saturdays
DESCRIPTION:
URL:https://entranceexperience.com/event/front-center-saturdays/2027-03-20/
LOCATION:The Entrance (Front Entrance)\, 15101 Dixie Highway\, Harvey\, IL\, 60426\, United States
CATEGORIES:Party
ATTACH;FMTTYPE=image/png:https://entranceexperience.com/wp-content/uploads/2026/01/Front-Center-Saturdays.png
ORGANIZER;CN="The Entrance":MAILTO:info@entranceexperience.com
END:VEVENT
BEGIN:VEVENT
DTSTART;TZID=America/Chicago:20270319T150000
DTEND;TZID=America/Chicago:20270319T190000
DTSTAMP:20260422T171931
CREATED:20260303T000210Z
LAST-MODIFIED:20260303T000211Z
UID:10000918-1805468400-1805482800@entranceexperience.com
SUMMARY:Happy Hour Special
DESCRIPTION:Slide through for the best Happy Hour in the city \n3–7PM • Tue–Thu ½ off drinks • Fri ½ off apps + ½ off drinks
URL:https://entranceexperience.com/event/happy-hour-special/2027-03-19/
LOCATION:The Entrance (Front Entrance)\, 15101 Dixie Highway\, Harvey\, IL\, 60426\, United States
CATEGORIES:Weekday Event & Specials
ATTACH;FMTTYPE=image/png:https://entranceexperience.com/wp-content/uploads/2026/03/Happy-Hour-ENT.png
ORGANIZER;CN="The Entrance":MAILTO:info@entranceexperience.com
END:VEVENT
BEGIN:VEVENT
DTSTART;TZID=America/Chicago:20270318T150000
DTEND;TZID=America/Chicago:20270318T190000
DTSTAMP:20260422T171931
CREATED:20260303T000210Z
LAST-MODIFIED:20260303T000211Z
UID:10000917-1805382000-1805396400@entranceexperience.com
SUMMARY:Happy Hour Special
DESCRIPTION:Slide through for the best Happy Hour in the city \n3–7PM • Tue–Thu ½ off drinks • Fri ½ off apps + ½ off drinks
URL:https://entranceexperience.com/event/happy-hour-special/2027-03-18/
LOCATION:The Entrance (Front Entrance)\, 15101 Dixie Highway\, Harvey\, IL\, 60426\, United States
CATEGORIES:Weekday Event & Specials
ATTACH;FMTTYPE=image/png:https://entranceexperience.com/wp-content/uploads/2026/03/Happy-Hour-ENT.png
ORGANIZER;CN="The Entrance":MAILTO:info@entranceexperience.com
END:VEVENT
BEGIN:VEVENT
DTSTART;TZID=America/Chicago:20270317T150000
DTEND;TZID=America/Chicago:20270317T190000
DTSTAMP:20260422T171931
CREATED:20260303T000210Z
LAST-MODIFIED:20260303T000211Z
UID:10000916-1805295600-1805310000@entranceexperience.com
SUMMARY:Happy Hour Special
DESCRIPTION:Slide through for the best Happy Hour in the city \n3–7PM • Tue–Thu ½ off drinks • Fri ½ off apps + ½ off drinks
URL:https://entranceexperience.com/event/happy-hour-special/2027-03-17/
LOCATION:The Entrance (Front Entrance)\, 15101 Dixie Highway\, Harvey\, IL\, 60426\, United States
CATEGORIES:Weekday Event & Specials
ATTACH;FMTTYPE=image/png:https://entranceexperience.com/wp-content/uploads/2026/03/Happy-Hour-ENT.png
ORGANIZER;CN="The Entrance":MAILTO:info@entranceexperience.com
END:VEVENT
BEGIN:VEVENT
DTSTART;TZID=America/Chicago:20270316T190000
DTEND;TZID=America/Chicago:20270316T233000
DTSTAMP:20260422T171931
CREATED:20260103T165258Z
LAST-MODIFIED:20260103T165258Z
UID:10000669-1805223600-1805239800@entranceexperience.com
SUMMARY:Taco Tuesday & Game Night
DESCRIPTION:
URL:https://entranceexperience.com/event/taco-tuesday-game-night/2027-03-16/
LOCATION:The Entrance (Front Entrance)\, 15101 Dixie Highway\, Harvey\, IL\, 60426\, United States
CATEGORIES:Weekday Event & Specials
ATTACH;FMTTYPE=image/png:https://entranceexperience.com/wp-content/uploads/2026/01/Taco-Tuesday-Final.png
ORGANIZER;CN="The Entrance":MAILTO:info@entranceexperience.com
END:VEVENT
BEGIN:VEVENT
DTSTART;TZID=America/Chicago:20270316T150000
DTEND;TZID=America/Chicago:20270316T190000
DTSTAMP:20260422T171931
CREATED:20260303T000210Z
LAST-MODIFIED:20260303T000211Z
UID:10000915-1805209200-1805223600@entranceexperience.com
SUMMARY:Happy Hour Special
DESCRIPTION:Slide through for the best Happy Hour in the city \n3–7PM • Tue–Thu ½ off drinks • Fri ½ off apps + ½ off drinks
URL:https://entranceexperience.com/event/happy-hour-special/2027-03-16/
LOCATION:The Entrance (Front Entrance)\, 15101 Dixie Highway\, Harvey\, IL\, 60426\, United States
CATEGORIES:Weekday Event & Specials
ATTACH;FMTTYPE=image/png:https://entranceexperience.com/wp-content/uploads/2026/03/Happy-Hour-ENT.png
ORGANIZER;CN="The Entrance":MAILTO:info@entranceexperience.com
END:VEVENT
BEGIN:VEVENT
DTSTART;TZID=America/Chicago:20270313T190000
DTEND;TZID=America/Chicago:20270313T233000
DTSTAMP:20260422T171931
CREATED:20260103T164521Z
LAST-MODIFIED:20260103T164848Z
UID:10000604-1804964400-1804980600@entranceexperience.com
SUMMARY:Front & Center Saturdays
DESCRIPTION:
URL:https://entranceexperience.com/event/front-center-saturdays/2027-03-13/
LOCATION:The Entrance (Front Entrance)\, 15101 Dixie Highway\, Harvey\, IL\, 60426\, United States
CATEGORIES:Party
ATTACH;FMTTYPE=image/png:https://entranceexperience.com/wp-content/uploads/2026/01/Front-Center-Saturdays.png
ORGANIZER;CN="The Entrance":MAILTO:info@entranceexperience.com
END:VEVENT
BEGIN:VEVENT
DTSTART;TZID=America/Chicago:20270312T150000
DTEND;TZID=America/Chicago:20270312T190000
DTSTAMP:20260422T171931
CREATED:20260303T000210Z
LAST-MODIFIED:20260303T000211Z
UID:10000914-1804863600-1804878000@entranceexperience.com
SUMMARY:Happy Hour Special
DESCRIPTION:Slide through for the best Happy Hour in the city \n3–7PM • Tue–Thu ½ off drinks • Fri ½ off apps + ½ off drinks
URL:https://entranceexperience.com/event/happy-hour-special/2027-03-12/
LOCATION:The Entrance (Front Entrance)\, 15101 Dixie Highway\, Harvey\, IL\, 60426\, United States
CATEGORIES:Weekday Event & Specials
ATTACH;FMTTYPE=image/png:https://entranceexperience.com/wp-content/uploads/2026/03/Happy-Hour-ENT.png
ORGANIZER;CN="The Entrance":MAILTO:info@entranceexperience.com
END:VEVENT
BEGIN:VEVENT
DTSTART;TZID=America/Chicago:20270311T150000
DTEND;TZID=America/Chicago:20270311T190000
DTSTAMP:20260422T171931
CREATED:20260303T000210Z
LAST-MODIFIED:20260303T000211Z
UID:10000913-1804777200-1804791600@entranceexperience.com
SUMMARY:Happy Hour Special
DESCRIPTION:Slide through for the best Happy Hour in the city \n3–7PM • Tue–Thu ½ off drinks • Fri ½ off apps + ½ off drinks
URL:https://entranceexperience.com/event/happy-hour-special/2027-03-11/
LOCATION:The Entrance (Front Entrance)\, 15101 Dixie Highway\, Harvey\, IL\, 60426\, United States
CATEGORIES:Weekday Event & Specials
ATTACH;FMTTYPE=image/png:https://entranceexperience.com/wp-content/uploads/2026/03/Happy-Hour-ENT.png
ORGANIZER;CN="The Entrance":MAILTO:info@entranceexperience.com
END:VEVENT
BEGIN:VEVENT
DTSTART;TZID=America/Chicago:20270310T150000
DTEND;TZID=America/Chicago:20270310T190000
DTSTAMP:20260422T171931
CREATED:20260303T000210Z
LAST-MODIFIED:20260303T000211Z
UID:10000912-1804690800-1804705200@entranceexperience.com
SUMMARY:Happy Hour Special
DESCRIPTION:Slide through for the best Happy Hour in the city \n3–7PM • Tue–Thu ½ off drinks • Fri ½ off apps + ½ off drinks
URL:https://entranceexperience.com/event/happy-hour-special/2027-03-10/
LOCATION:The Entrance (Front Entrance)\, 15101 Dixie Highway\, Harvey\, IL\, 60426\, United States
CATEGORIES:Weekday Event & Specials
ATTACH;FMTTYPE=image/png:https://entranceexperience.com/wp-content/uploads/2026/03/Happy-Hour-ENT.png
ORGANIZER;CN="The Entrance":MAILTO:info@entranceexperience.com
END:VEVENT
BEGIN:VEVENT
DTSTART;TZID=America/Chicago:20270309T190000
DTEND;TZID=America/Chicago:20270309T233000
DTSTAMP:20260422T171931
CREATED:20260103T165258Z
LAST-MODIFIED:20260103T165258Z
UID:10000668-1804618800-1804635000@entranceexperience.com
SUMMARY:Taco Tuesday & Game Night
DESCRIPTION:
URL:https://entranceexperience.com/event/taco-tuesday-game-night/2027-03-09/
LOCATION:The Entrance (Front Entrance)\, 15101 Dixie Highway\, Harvey\, IL\, 60426\, United States
CATEGORIES:Weekday Event & Specials
ATTACH;FMTTYPE=image/png:https://entranceexperience.com/wp-content/uploads/2026/01/Taco-Tuesday-Final.png
ORGANIZER;CN="The Entrance":MAILTO:info@entranceexperience.com
END:VEVENT
BEGIN:VEVENT
DTSTART;TZID=America/Chicago:20270309T150000
DTEND;TZID=America/Chicago:20270309T190000
DTSTAMP:20260422T171931
CREATED:20260303T000210Z
LAST-MODIFIED:20260303T000211Z
UID:10000911-1804604400-1804618800@entranceexperience.com
SUMMARY:Happy Hour Special
DESCRIPTION:Slide through for the best Happy Hour in the city \n3–7PM • Tue–Thu ½ off drinks • Fri ½ off apps + ½ off drinks
URL:https://entranceexperience.com/event/happy-hour-special/2027-03-09/
LOCATION:The Entrance (Front Entrance)\, 15101 Dixie Highway\, Harvey\, IL\, 60426\, United States
CATEGORIES:Weekday Event & Specials
ATTACH;FMTTYPE=image/png:https://entranceexperience.com/wp-content/uploads/2026/03/Happy-Hour-ENT.png
ORGANIZER;CN="The Entrance":MAILTO:info@entranceexperience.com
END:VEVENT
BEGIN:VEVENT
DTSTART;TZID=America/Chicago:20270306T190000
DTEND;TZID=America/Chicago:20270306T233000
DTSTAMP:20260422T171931
CREATED:20260103T164521Z
LAST-MODIFIED:20260103T164848Z
UID:10000603-1804359600-1804375800@entranceexperience.com
SUMMARY:Front & Center Saturdays
DESCRIPTION:
URL:https://entranceexperience.com/event/front-center-saturdays/2027-03-06/
LOCATION:The Entrance (Front Entrance)\, 15101 Dixie Highway\, Harvey\, IL\, 60426\, United States
CATEGORIES:Party
ATTACH;FMTTYPE=image/png:https://entranceexperience.com/wp-content/uploads/2026/01/Front-Center-Saturdays.png
ORGANIZER;CN="The Entrance":MAILTO:info@entranceexperience.com
END:VEVENT
BEGIN:VEVENT
DTSTART;TZID=America/Chicago:20270305T150000
DTEND;TZID=America/Chicago:20270305T190000
DTSTAMP:20260422T171931
CREATED:20260303T000210Z
LAST-MODIFIED:20260303T000211Z
UID:10000910-1804258800-1804273200@entranceexperience.com
SUMMARY:Happy Hour Special
DESCRIPTION:Slide through for the best Happy Hour in the city \n3–7PM • Tue–Thu ½ off drinks • Fri ½ off apps + ½ off drinks
URL:https://entranceexperience.com/event/happy-hour-special/2027-03-05/
LOCATION:The Entrance (Front Entrance)\, 15101 Dixie Highway\, Harvey\, IL\, 60426\, United States
CATEGORIES:Weekday Event & Specials
ATTACH;FMTTYPE=image/png:https://entranceexperience.com/wp-content/uploads/2026/03/Happy-Hour-ENT.png
ORGANIZER;CN="The Entrance":MAILTO:info@entranceexperience.com
END:VEVENT
BEGIN:VEVENT
DTSTART;TZID=America/Chicago:20270304T150000
DTEND;TZID=America/Chicago:20270304T190000
DTSTAMP:20260422T171931
CREATED:20260303T000210Z
LAST-MODIFIED:20260303T000211Z
UID:10000909-1804172400-1804186800@entranceexperience.com
SUMMARY:Happy Hour Special
DESCRIPTION:Slide through for the best Happy Hour in the city \n3–7PM • Tue–Thu ½ off drinks • Fri ½ off apps + ½ off drinks
URL:https://entranceexperience.com/event/happy-hour-special/2027-03-04/
LOCATION:The Entrance (Front Entrance)\, 15101 Dixie Highway\, Harvey\, IL\, 60426\, United States
CATEGORIES:Weekday Event & Specials
ATTACH;FMTTYPE=image/png:https://entranceexperience.com/wp-content/uploads/2026/03/Happy-Hour-ENT.png
ORGANIZER;CN="The Entrance":MAILTO:info@entranceexperience.com
END:VEVENT
BEGIN:VEVENT
DTSTART;TZID=America/Chicago:20270303T150000
DTEND;TZID=America/Chicago:20270303T190000
DTSTAMP:20260422T171931
CREATED:20260303T000210Z
LAST-MODIFIED:20260303T000211Z
UID:10000908-1804086000-1804100400@entranceexperience.com
SUMMARY:Happy Hour Special
DESCRIPTION:Slide through for the best Happy Hour in the city \n3–7PM • Tue–Thu ½ off drinks • Fri ½ off apps + ½ off drinks
URL:https://entranceexperience.com/event/happy-hour-special/2027-03-03/
LOCATION:The Entrance (Front Entrance)\, 15101 Dixie Highway\, Harvey\, IL\, 60426\, United States
CATEGORIES:Weekday Event & Specials
ATTACH;FMTTYPE=image/png:https://entranceexperience.com/wp-content/uploads/2026/03/Happy-Hour-ENT.png
ORGANIZER;CN="The Entrance":MAILTO:info@entranceexperience.com
END:VEVENT
BEGIN:VEVENT
DTSTART;TZID=America/Chicago:20270302T190000
DTEND;TZID=America/Chicago:20270302T233000
DTSTAMP:20260422T171931
CREATED:20260103T165258Z
LAST-MODIFIED:20260103T165258Z
UID:10000667-1804014000-1804030200@entranceexperience.com
SUMMARY:Taco Tuesday & Game Night
DESCRIPTION:
URL:https://entranceexperience.com/event/taco-tuesday-game-night/2027-03-02/
LOCATION:The Entrance (Front Entrance)\, 15101 Dixie Highway\, Harvey\, IL\, 60426\, United States
CATEGORIES:Weekday Event & Specials
ATTACH;FMTTYPE=image/png:https://entranceexperience.com/wp-content/uploads/2026/01/Taco-Tuesday-Final.png
ORGANIZER;CN="The Entrance":MAILTO:info@entranceexperience.com
END:VEVENT
BEGIN:VEVENT
DTSTART;TZID=America/Chicago:20270302T150000
DTEND;TZID=America/Chicago:20270302T190000
DTSTAMP:20260422T171931
CREATED:20260303T000210Z
LAST-MODIFIED:20260303T000211Z
UID:10000907-1803999600-1804014000@entranceexperience.com
SUMMARY:Happy Hour Special
DESCRIPTION:Slide through for the best Happy Hour in the city \n3–7PM • Tue–Thu ½ off drinks • Fri ½ off apps + ½ off drinks
URL:https://entranceexperience.com/event/happy-hour-special/2027-03-02/
LOCATION:The Entrance (Front Entrance)\, 15101 Dixie Highway\, Harvey\, IL\, 60426\, United States
CATEGORIES:Weekday Event & Specials
ATTACH;FMTTYPE=image/png:https://entranceexperience.com/wp-content/uploads/2026/03/Happy-Hour-ENT.png
ORGANIZER;CN="The Entrance":MAILTO:info@entranceexperience.com
END:VEVENT
BEGIN:VEVENT
DTSTART;TZID=America/Chicago:20270227T190000
DTEND;TZID=America/Chicago:20270227T233000
DTSTAMP:20260422T171931
CREATED:20260103T164521Z
LAST-MODIFIED:20260103T164848Z
UID:10000602-1803754800-1803771000@entranceexperience.com
SUMMARY:Front & Center Saturdays
DESCRIPTION:
URL:https://entranceexperience.com/event/front-center-saturdays/2027-02-27/
LOCATION:The Entrance (Front Entrance)\, 15101 Dixie Highway\, Harvey\, IL\, 60426\, United States
CATEGORIES:Party
ATTACH;FMTTYPE=image/png:https://entranceexperience.com/wp-content/uploads/2026/01/Front-Center-Saturdays.png
ORGANIZER;CN="The Entrance":MAILTO:info@entranceexperience.com
END:VEVENT
BEGIN:VEVENT
DTSTART;TZID=America/Chicago:20270226T150000
DTEND;TZID=America/Chicago:20270226T190000
DTSTAMP:20260422T171931
CREATED:20260303T000210Z
LAST-MODIFIED:20260303T000211Z
UID:10000906-1803654000-1803668400@entranceexperience.com
SUMMARY:Happy Hour Special
DESCRIPTION:Slide through for the best Happy Hour in the city \n3–7PM • Tue–Thu ½ off drinks • Fri ½ off apps + ½ off drinks
URL:https://entranceexperience.com/event/happy-hour-special/2027-02-26/
LOCATION:The Entrance (Front Entrance)\, 15101 Dixie Highway\, Harvey\, IL\, 60426\, United States
CATEGORIES:Weekday Event & Specials
ATTACH;FMTTYPE=image/png:https://entranceexperience.com/wp-content/uploads/2026/03/Happy-Hour-ENT.png
ORGANIZER;CN="The Entrance":MAILTO:info@entranceexperience.com
END:VEVENT
BEGIN:VEVENT
DTSTART;TZID=America/Chicago:20270225T150000
DTEND;TZID=America/Chicago:20270225T190000
DTSTAMP:20260422T171931
CREATED:20260303T000210Z
LAST-MODIFIED:20260303T000211Z
UID:10000905-1803567600-1803582000@entranceexperience.com
SUMMARY:Happy Hour Special
DESCRIPTION:Slide through for the best Happy Hour in the city \n3–7PM • Tue–Thu ½ off drinks • Fri ½ off apps + ½ off drinks
URL:https://entranceexperience.com/event/happy-hour-special/2027-02-25/
LOCATION:The Entrance (Front Entrance)\, 15101 Dixie Highway\, Harvey\, IL\, 60426\, United States
CATEGORIES:Weekday Event & Specials
ATTACH;FMTTYPE=image/png:https://entranceexperience.com/wp-content/uploads/2026/03/Happy-Hour-ENT.png
ORGANIZER;CN="The Entrance":MAILTO:info@entranceexperience.com
END:VEVENT
BEGIN:VEVENT
DTSTART;TZID=America/Chicago:20270224T150000
DTEND;TZID=America/Chicago:20270224T190000
DTSTAMP:20260422T171931
CREATED:20260303T000210Z
LAST-MODIFIED:20260303T000211Z
UID:10000904-1803481200-1803495600@entranceexperience.com
SUMMARY:Happy Hour Special
DESCRIPTION:Slide through for the best Happy Hour in the city \n3–7PM • Tue–Thu ½ off drinks • Fri ½ off apps + ½ off drinks
URL:https://entranceexperience.com/event/happy-hour-special/2027-02-24/
LOCATION:The Entrance (Front Entrance)\, 15101 Dixie Highway\, Harvey\, IL\, 60426\, United States
CATEGORIES:Weekday Event & Specials
ATTACH;FMTTYPE=image/png:https://entranceexperience.com/wp-content/uploads/2026/03/Happy-Hour-ENT.png
ORGANIZER;CN="The Entrance":MAILTO:info@entranceexperience.com
END:VEVENT
BEGIN:VEVENT
DTSTART;TZID=America/Chicago:20270223T190000
DTEND;TZID=America/Chicago:20270223T233000
DTSTAMP:20260422T171931
CREATED:20260103T165258Z
LAST-MODIFIED:20260103T165258Z
UID:10000666-1803409200-1803425400@entranceexperience.com
SUMMARY:Taco Tuesday & Game Night
DESCRIPTION:
URL:https://entranceexperience.com/event/taco-tuesday-game-night/2027-02-23/
LOCATION:The Entrance (Front Entrance)\, 15101 Dixie Highway\, Harvey\, IL\, 60426\, United States
CATEGORIES:Weekday Event & Specials
ATTACH;FMTTYPE=image/png:https://entranceexperience.com/wp-content/uploads/2026/01/Taco-Tuesday-Final.png
ORGANIZER;CN="The Entrance":MAILTO:info@entranceexperience.com
END:VEVENT
BEGIN:VEVENT
DTSTART;TZID=America/Chicago:20270223T150000
DTEND;TZID=America/Chicago:20270223T190000
DTSTAMP:20260422T171931
CREATED:20260303T000210Z
LAST-MODIFIED:20260303T000211Z
UID:10000903-1803394800-1803409200@entranceexperience.com
SUMMARY:Happy Hour Special
DESCRIPTION:Slide through for the best Happy Hour in the city \n3–7PM • Tue–Thu ½ off drinks • Fri ½ off apps + ½ off drinks
URL:https://entranceexperience.com/event/happy-hour-special/2027-02-23/
LOCATION:The Entrance (Front Entrance)\, 15101 Dixie Highway\, Harvey\, IL\, 60426\, United States
CATEGORIES:Weekday Event & Specials
ATTACH;FMTTYPE=image/png:https://entranceexperience.com/wp-content/uploads/2026/03/Happy-Hour-ENT.png
ORGANIZER;CN="The Entrance":MAILTO:info@entranceexperience.com
END:VEVENT
END:VCALENDAR