BEGIN:VCALENDAR
VERSION:2.0
PRODID:-//The Entrance Experience - ECPv6.15.20//NONSGML v1.0//EN
CALSCALE:GREGORIAN
METHOD:PUBLISH
X-WR-CALNAME:The Entrance Experience
X-ORIGINAL-URL:https://entranceexperience.com
X-WR-CALDESC:Events for The Entrance Experience
REFRESH-INTERVAL;VALUE=DURATION:PT1H
X-Robots-Tag:noindex
X-PUBLISHED-TTL:PT1H
BEGIN:VTIMEZONE
TZID:America/Chicago
BEGIN:DAYLIGHT
TZOFFSETFROM:-0600
TZOFFSETTO:-0500
TZNAME:CDT
DTSTART:20250309T080000
END:DAYLIGHT
BEGIN:STANDARD
TZOFFSETFROM:-0500
TZOFFSETTO:-0600
TZNAME:CST
DTSTART:20251102T070000
END:STANDARD
BEGIN:DAYLIGHT
TZOFFSETFROM:-0600
TZOFFSETTO:-0500
TZNAME:CDT
DTSTART:20260308T080000
END:DAYLIGHT
BEGIN:STANDARD
TZOFFSETFROM:-0500
TZOFFSETTO:-0600
TZNAME:CST
DTSTART:20261101T070000
END:STANDARD
BEGIN:DAYLIGHT
TZOFFSETFROM:-0600
TZOFFSETTO:-0500
TZNAME:CDT
DTSTART:20270314T080000
END:DAYLIGHT
BEGIN:STANDARD
TZOFFSETFROM:-0500
TZOFFSETTO:-0600
TZNAME:CST
DTSTART:20271107T070000
END:STANDARD
END:VTIMEZONE
BEGIN:VEVENT
DTSTART;TZID=America/Chicago:20260408T150000
DTEND;TZID=America/Chicago:20260408T190000
DTSTAMP:20260421T200752
CREATED:20260303T000210Z
LAST-MODIFIED:20260303T000211Z
UID:10000720-1775660400-1775674800@entranceexperience.com
SUMMARY:Happy Hour Special
DESCRIPTION:Slide through for the best Happy Hour in the city \n3–7PM • Tue–Thu ½ off drinks • Fri ½ off apps + ½ off drinks
URL:https://entranceexperience.com/event/happy-hour-special/2026-04-08/
LOCATION:The Entrance (Front Entrance)\, 15101 Dixie Highway\, Harvey\, IL\, 60426\, United States
CATEGORIES:Weekday Event & Specials
ATTACH;FMTTYPE=image/png:https://entranceexperience.com/wp-content/uploads/2026/03/Happy-Hour-ENT.png
ORGANIZER;CN="The Entrance":MAILTO:info@entranceexperience.com
END:VEVENT
BEGIN:VEVENT
DTSTART;TZID=America/Chicago:20260409T150000
DTEND;TZID=America/Chicago:20260409T190000
DTSTAMP:20260421T200752
CREATED:20260303T000210Z
LAST-MODIFIED:20260303T000211Z
UID:10000721-1775746800-1775761200@entranceexperience.com
SUMMARY:Happy Hour Special
DESCRIPTION:Slide through for the best Happy Hour in the city \n3–7PM • Tue–Thu ½ off drinks • Fri ½ off apps + ½ off drinks
URL:https://entranceexperience.com/event/happy-hour-special/2026-04-09/
LOCATION:The Entrance (Front Entrance)\, 15101 Dixie Highway\, Harvey\, IL\, 60426\, United States
CATEGORIES:Weekday Event & Specials
ATTACH;FMTTYPE=image/png:https://entranceexperience.com/wp-content/uploads/2026/03/Happy-Hour-ENT.png
ORGANIZER;CN="The Entrance":MAILTO:info@entranceexperience.com
END:VEVENT
BEGIN:VEVENT
DTSTART;TZID=America/Chicago:20260410T150000
DTEND;TZID=America/Chicago:20260410T190000
DTSTAMP:20260421T200752
CREATED:20260303T000210Z
LAST-MODIFIED:20260303T000211Z
UID:10000722-1775833200-1775847600@entranceexperience.com
SUMMARY:Happy Hour Special
DESCRIPTION:Slide through for the best Happy Hour in the city \n3–7PM • Tue–Thu ½ off drinks • Fri ½ off apps + ½ off drinks
URL:https://entranceexperience.com/event/happy-hour-special/2026-04-10/
LOCATION:The Entrance (Front Entrance)\, 15101 Dixie Highway\, Harvey\, IL\, 60426\, United States
CATEGORIES:Weekday Event & Specials
ATTACH;FMTTYPE=image/png:https://entranceexperience.com/wp-content/uploads/2026/03/Happy-Hour-ENT.png
ORGANIZER;CN="The Entrance":MAILTO:info@entranceexperience.com
END:VEVENT
BEGIN:VEVENT
DTSTART;TZID=America/Chicago:20260410T180000
DTEND;TZID=America/Chicago:20260410T230000
DTSTAMP:20260421T200752
CREATED:20260116T160419Z
LAST-MODIFIED:20260116T160420Z
UID:10000686-1775844000-1775862000@entranceexperience.com
SUMMARY:Karaoke Friday's
DESCRIPTION:Join us each and every Friday for food\, drinks\, music & karaoke!
URL:https://entranceexperience.com/event/karaoke-fridays/2026-04-10/
LOCATION:The Entrance (Front Entrance)\, 15101 Dixie Highway\, Harvey\, IL\, 60426\, United States
CATEGORIES:Karaoke Fridays,Weekend Events
ATTACH;FMTTYPE=image/jpeg:https://entranceexperience.com/wp-content/uploads/2025/12/ff43c158-50ed-4b21-a62b-32f781ba79b6.jpg
ORGANIZER;CN="The Entrance":MAILTO:info@entranceexperience.com
END:VEVENT
BEGIN:VEVENT
DTSTART;TZID=America/Chicago:20260411T190000
DTEND;TZID=America/Chicago:20260411T233000
DTSTAMP:20260421T200752
CREATED:20260103T164521Z
LAST-MODIFIED:20260103T164848Z
UID:10000556-1775934000-1775950200@entranceexperience.com
SUMMARY:Front & Center Saturdays
DESCRIPTION:
URL:https://entranceexperience.com/event/front-center-saturdays/2026-04-11/
LOCATION:The Entrance (Front Entrance)\, 15101 Dixie Highway\, Harvey\, IL\, 60426\, United States
CATEGORIES:Party
ATTACH;FMTTYPE=image/png:https://entranceexperience.com/wp-content/uploads/2026/01/Front-Center-Saturdays.png
ORGANIZER;CN="The Entrance":MAILTO:info@entranceexperience.com
END:VEVENT
BEGIN:VEVENT
DTSTART;TZID=America/Chicago:20260414T150000
DTEND;TZID=America/Chicago:20260414T190000
DTSTAMP:20260421T200752
CREATED:20260303T000210Z
LAST-MODIFIED:20260303T000211Z
UID:10000723-1776178800-1776193200@entranceexperience.com
SUMMARY:Happy Hour Special
DESCRIPTION:Slide through for the best Happy Hour in the city \n3–7PM • Tue–Thu ½ off drinks • Fri ½ off apps + ½ off drinks
URL:https://entranceexperience.com/event/happy-hour-special/2026-04-14/
LOCATION:The Entrance (Front Entrance)\, 15101 Dixie Highway\, Harvey\, IL\, 60426\, United States
CATEGORIES:Weekday Event & Specials
ATTACH;FMTTYPE=image/png:https://entranceexperience.com/wp-content/uploads/2026/03/Happy-Hour-ENT.png
ORGANIZER;CN="The Entrance":MAILTO:info@entranceexperience.com
END:VEVENT
BEGIN:VEVENT
DTSTART;TZID=America/Chicago:20260414T190000
DTEND;TZID=America/Chicago:20260414T233000
DTSTAMP:20260421T200752
CREATED:20260103T165258Z
LAST-MODIFIED:20260103T165258Z
UID:10000621-1776193200-1776209400@entranceexperience.com
SUMMARY:Taco Tuesday & Game Night
DESCRIPTION:
URL:https://entranceexperience.com/event/taco-tuesday-game-night/2026-04-14/
LOCATION:The Entrance (Front Entrance)\, 15101 Dixie Highway\, Harvey\, IL\, 60426\, United States
CATEGORIES:Weekday Event & Specials
ATTACH;FMTTYPE=image/png:https://entranceexperience.com/wp-content/uploads/2026/01/Taco-Tuesday-Final.png
ORGANIZER;CN="The Entrance":MAILTO:info@entranceexperience.com
END:VEVENT
BEGIN:VEVENT
DTSTART;TZID=America/Chicago:20260415T150000
DTEND;TZID=America/Chicago:20260415T190000
DTSTAMP:20260421T200752
CREATED:20260303T000210Z
LAST-MODIFIED:20260303T000211Z
UID:10000724-1776265200-1776279600@entranceexperience.com
SUMMARY:Happy Hour Special
DESCRIPTION:Slide through for the best Happy Hour in the city \n3–7PM • Tue–Thu ½ off drinks • Fri ½ off apps + ½ off drinks
URL:https://entranceexperience.com/event/happy-hour-special/2026-04-15/
LOCATION:The Entrance (Front Entrance)\, 15101 Dixie Highway\, Harvey\, IL\, 60426\, United States
CATEGORIES:Weekday Event & Specials
ATTACH;FMTTYPE=image/png:https://entranceexperience.com/wp-content/uploads/2026/03/Happy-Hour-ENT.png
ORGANIZER;CN="The Entrance":MAILTO:info@entranceexperience.com
END:VEVENT
BEGIN:VEVENT
DTSTART;TZID=America/Chicago:20260416T150000
DTEND;TZID=America/Chicago:20260416T190000
DTSTAMP:20260421T200752
CREATED:20260303T000210Z
LAST-MODIFIED:20260303T000211Z
UID:10000725-1776351600-1776366000@entranceexperience.com
SUMMARY:Happy Hour Special
DESCRIPTION:Slide through for the best Happy Hour in the city \n3–7PM • Tue–Thu ½ off drinks • Fri ½ off apps + ½ off drinks
URL:https://entranceexperience.com/event/happy-hour-special/2026-04-16/
LOCATION:The Entrance (Front Entrance)\, 15101 Dixie Highway\, Harvey\, IL\, 60426\, United States
CATEGORIES:Weekday Event & Specials
ATTACH;FMTTYPE=image/png:https://entranceexperience.com/wp-content/uploads/2026/03/Happy-Hour-ENT.png
ORGANIZER;CN="The Entrance":MAILTO:info@entranceexperience.com
END:VEVENT
BEGIN:VEVENT
DTSTART;TZID=America/Chicago:20260417T150000
DTEND;TZID=America/Chicago:20260417T190000
DTSTAMP:20260421T200752
CREATED:20260303T000210Z
LAST-MODIFIED:20260303T000211Z
UID:10000726-1776438000-1776452400@entranceexperience.com
SUMMARY:Happy Hour Special
DESCRIPTION:Slide through for the best Happy Hour in the city \n3–7PM • Tue–Thu ½ off drinks • Fri ½ off apps + ½ off drinks
URL:https://entranceexperience.com/event/happy-hour-special/2026-04-17/
LOCATION:The Entrance (Front Entrance)\, 15101 Dixie Highway\, Harvey\, IL\, 60426\, United States
CATEGORIES:Weekday Event & Specials
ATTACH;FMTTYPE=image/png:https://entranceexperience.com/wp-content/uploads/2026/03/Happy-Hour-ENT.png
ORGANIZER;CN="The Entrance":MAILTO:info@entranceexperience.com
END:VEVENT
BEGIN:VEVENT
DTSTART;TZID=America/Chicago:20260417T180000
DTEND;TZID=America/Chicago:20260417T230000
DTSTAMP:20260421T200752
CREATED:20260116T160419Z
LAST-MODIFIED:20260116T160420Z
UID:10000687-1776448800-1776466800@entranceexperience.com
SUMMARY:Karaoke Friday's
DESCRIPTION:Join us each and every Friday for food\, drinks\, music & karaoke!
URL:https://entranceexperience.com/event/karaoke-fridays/2026-04-17/
LOCATION:The Entrance (Front Entrance)\, 15101 Dixie Highway\, Harvey\, IL\, 60426\, United States
CATEGORIES:Karaoke Fridays,Weekend Events
ATTACH;FMTTYPE=image/jpeg:https://entranceexperience.com/wp-content/uploads/2025/12/ff43c158-50ed-4b21-a62b-32f781ba79b6.jpg
ORGANIZER;CN="The Entrance":MAILTO:info@entranceexperience.com
END:VEVENT
BEGIN:VEVENT
DTSTART;TZID=America/Chicago:20260418T190000
DTEND;TZID=America/Chicago:20260418T233000
DTSTAMP:20260421T200752
CREATED:20260103T164521Z
LAST-MODIFIED:20260103T164848Z
UID:10000557-1776538800-1776555000@entranceexperience.com
SUMMARY:Front & Center Saturdays
DESCRIPTION:
URL:https://entranceexperience.com/event/front-center-saturdays/2026-04-18/
LOCATION:The Entrance (Front Entrance)\, 15101 Dixie Highway\, Harvey\, IL\, 60426\, United States
CATEGORIES:Party
ATTACH;FMTTYPE=image/png:https://entranceexperience.com/wp-content/uploads/2026/01/Front-Center-Saturdays.png
ORGANIZER;CN="The Entrance":MAILTO:info@entranceexperience.com
END:VEVENT
BEGIN:VEVENT
DTSTART;TZID=America/Chicago:20260421T150000
DTEND;TZID=America/Chicago:20260421T190000
DTSTAMP:20260421T200752
CREATED:20260303T000210Z
LAST-MODIFIED:20260303T000211Z
UID:10000727-1776783600-1776798000@entranceexperience.com
SUMMARY:Happy Hour Special
DESCRIPTION:Slide through for the best Happy Hour in the city \n3–7PM • Tue–Thu ½ off drinks • Fri ½ off apps + ½ off drinks
URL:https://entranceexperience.com/event/happy-hour-special/2026-04-21/
LOCATION:The Entrance (Front Entrance)\, 15101 Dixie Highway\, Harvey\, IL\, 60426\, United States
CATEGORIES:Weekday Event & Specials
ATTACH;FMTTYPE=image/png:https://entranceexperience.com/wp-content/uploads/2026/03/Happy-Hour-ENT.png
ORGANIZER;CN="The Entrance":MAILTO:info@entranceexperience.com
END:VEVENT
BEGIN:VEVENT
DTSTART;TZID=America/Chicago:20260421T190000
DTEND;TZID=America/Chicago:20260421T233000
DTSTAMP:20260421T200752
CREATED:20260103T165258Z
LAST-MODIFIED:20260103T165258Z
UID:10000622-1776798000-1776814200@entranceexperience.com
SUMMARY:Taco Tuesday & Game Night
DESCRIPTION:
URL:https://entranceexperience.com/event/taco-tuesday-game-night/2026-04-21/
LOCATION:The Entrance (Front Entrance)\, 15101 Dixie Highway\, Harvey\, IL\, 60426\, United States
CATEGORIES:Weekday Event & Specials
ATTACH;FMTTYPE=image/png:https://entranceexperience.com/wp-content/uploads/2026/01/Taco-Tuesday-Final.png
ORGANIZER;CN="The Entrance":MAILTO:info@entranceexperience.com
END:VEVENT
BEGIN:VEVENT
DTSTART;TZID=America/Chicago:20260422T150000
DTEND;TZID=America/Chicago:20260422T190000
DTSTAMP:20260421T200752
CREATED:20260303T000210Z
LAST-MODIFIED:20260303T000211Z
UID:10000728-1776870000-1776884400@entranceexperience.com
SUMMARY:Happy Hour Special
DESCRIPTION:Slide through for the best Happy Hour in the city \n3–7PM • Tue–Thu ½ off drinks • Fri ½ off apps + ½ off drinks
URL:https://entranceexperience.com/event/happy-hour-special/2026-04-22/
LOCATION:The Entrance (Front Entrance)\, 15101 Dixie Highway\, Harvey\, IL\, 60426\, United States
CATEGORIES:Weekday Event & Specials
ATTACH;FMTTYPE=image/png:https://entranceexperience.com/wp-content/uploads/2026/03/Happy-Hour-ENT.png
ORGANIZER;CN="The Entrance":MAILTO:info@entranceexperience.com
END:VEVENT
BEGIN:VEVENT
DTSTART;TZID=America/Chicago:20260423T150000
DTEND;TZID=America/Chicago:20260423T190000
DTSTAMP:20260421T200752
CREATED:20260303T000210Z
LAST-MODIFIED:20260303T000211Z
UID:10000729-1776956400-1776970800@entranceexperience.com
SUMMARY:Happy Hour Special
DESCRIPTION:Slide through for the best Happy Hour in the city \n3–7PM • Tue–Thu ½ off drinks • Fri ½ off apps + ½ off drinks
URL:https://entranceexperience.com/event/happy-hour-special/2026-04-23/
LOCATION:The Entrance (Front Entrance)\, 15101 Dixie Highway\, Harvey\, IL\, 60426\, United States
CATEGORIES:Weekday Event & Specials
ATTACH;FMTTYPE=image/png:https://entranceexperience.com/wp-content/uploads/2026/03/Happy-Hour-ENT.png
ORGANIZER;CN="The Entrance":MAILTO:info@entranceexperience.com
END:VEVENT
BEGIN:VEVENT
DTSTART;TZID=America/Chicago:20260424T150000
DTEND;TZID=America/Chicago:20260424T190000
DTSTAMP:20260421T200752
CREATED:20260303T000210Z
LAST-MODIFIED:20260303T000211Z
UID:10000730-1777042800-1777057200@entranceexperience.com
SUMMARY:Happy Hour Special
DESCRIPTION:Slide through for the best Happy Hour in the city \n3–7PM • Tue–Thu ½ off drinks • Fri ½ off apps + ½ off drinks
URL:https://entranceexperience.com/event/happy-hour-special/2026-04-24/
LOCATION:The Entrance (Front Entrance)\, 15101 Dixie Highway\, Harvey\, IL\, 60426\, United States
CATEGORIES:Weekday Event & Specials
ATTACH;FMTTYPE=image/png:https://entranceexperience.com/wp-content/uploads/2026/03/Happy-Hour-ENT.png
ORGANIZER;CN="The Entrance":MAILTO:info@entranceexperience.com
END:VEVENT
BEGIN:VEVENT
DTSTART;TZID=America/Chicago:20260424T180000
DTEND;TZID=America/Chicago:20260424T230000
DTSTAMP:20260421T200752
CREATED:20260116T160419Z
LAST-MODIFIED:20260116T160420Z
UID:10000688-1777053600-1777071600@entranceexperience.com
SUMMARY:Karaoke Friday's
DESCRIPTION:Join us each and every Friday for food\, drinks\, music & karaoke!
URL:https://entranceexperience.com/event/karaoke-fridays/2026-04-24/
LOCATION:The Entrance (Front Entrance)\, 15101 Dixie Highway\, Harvey\, IL\, 60426\, United States
CATEGORIES:Karaoke Fridays,Weekend Events
ATTACH;FMTTYPE=image/jpeg:https://entranceexperience.com/wp-content/uploads/2025/12/ff43c158-50ed-4b21-a62b-32f781ba79b6.jpg
ORGANIZER;CN="The Entrance":MAILTO:info@entranceexperience.com
END:VEVENT
BEGIN:VEVENT
DTSTART;TZID=America/Chicago:20260425T190000
DTEND;TZID=America/Chicago:20260425T233000
DTSTAMP:20260421T200752
CREATED:20260103T164521Z
LAST-MODIFIED:20260103T164848Z
UID:10000558-1777143600-1777159800@entranceexperience.com
SUMMARY:Front & Center Saturdays
DESCRIPTION:
URL:https://entranceexperience.com/event/front-center-saturdays/2026-04-25/
LOCATION:The Entrance (Front Entrance)\, 15101 Dixie Highway\, Harvey\, IL\, 60426\, United States
CATEGORIES:Party
ATTACH;FMTTYPE=image/png:https://entranceexperience.com/wp-content/uploads/2026/01/Front-Center-Saturdays.png
ORGANIZER;CN="The Entrance":MAILTO:info@entranceexperience.com
END:VEVENT
BEGIN:VEVENT
DTSTART;TZID=America/Chicago:20260428T150000
DTEND;TZID=America/Chicago:20260428T190000
DTSTAMP:20260421T200752
CREATED:20260303T000210Z
LAST-MODIFIED:20260303T000211Z
UID:10000731-1777388400-1777402800@entranceexperience.com
SUMMARY:Happy Hour Special
DESCRIPTION:Slide through for the best Happy Hour in the city \n3–7PM • Tue–Thu ½ off drinks • Fri ½ off apps + ½ off drinks
URL:https://entranceexperience.com/event/happy-hour-special/2026-04-28/
LOCATION:The Entrance (Front Entrance)\, 15101 Dixie Highway\, Harvey\, IL\, 60426\, United States
CATEGORIES:Weekday Event & Specials
ATTACH;FMTTYPE=image/png:https://entranceexperience.com/wp-content/uploads/2026/03/Happy-Hour-ENT.png
ORGANIZER;CN="The Entrance":MAILTO:info@entranceexperience.com
END:VEVENT
BEGIN:VEVENT
DTSTART;TZID=America/Chicago:20260428T190000
DTEND;TZID=America/Chicago:20260428T233000
DTSTAMP:20260421T200752
CREATED:20260103T165258Z
LAST-MODIFIED:20260103T165258Z
UID:10000623-1777402800-1777419000@entranceexperience.com
SUMMARY:Taco Tuesday & Game Night
DESCRIPTION:
URL:https://entranceexperience.com/event/taco-tuesday-game-night/2026-04-28/
LOCATION:The Entrance (Front Entrance)\, 15101 Dixie Highway\, Harvey\, IL\, 60426\, United States
CATEGORIES:Weekday Event & Specials
ATTACH;FMTTYPE=image/png:https://entranceexperience.com/wp-content/uploads/2026/01/Taco-Tuesday-Final.png
ORGANIZER;CN="The Entrance":MAILTO:info@entranceexperience.com
END:VEVENT
BEGIN:VEVENT
DTSTART;TZID=America/Chicago:20260429T150000
DTEND;TZID=America/Chicago:20260429T190000
DTSTAMP:20260421T200752
CREATED:20260303T000210Z
LAST-MODIFIED:20260303T000211Z
UID:10000732-1777474800-1777489200@entranceexperience.com
SUMMARY:Happy Hour Special
DESCRIPTION:Slide through for the best Happy Hour in the city \n3–7PM • Tue–Thu ½ off drinks • Fri ½ off apps + ½ off drinks
URL:https://entranceexperience.com/event/happy-hour-special/2026-04-29/
LOCATION:The Entrance (Front Entrance)\, 15101 Dixie Highway\, Harvey\, IL\, 60426\, United States
CATEGORIES:Weekday Event & Specials
ATTACH;FMTTYPE=image/png:https://entranceexperience.com/wp-content/uploads/2026/03/Happy-Hour-ENT.png
ORGANIZER;CN="The Entrance":MAILTO:info@entranceexperience.com
END:VEVENT
BEGIN:VEVENT
DTSTART;TZID=America/Chicago:20260430T150000
DTEND;TZID=America/Chicago:20260430T190000
DTSTAMP:20260421T200752
CREATED:20260303T000210Z
LAST-MODIFIED:20260303T000211Z
UID:10000733-1777561200-1777575600@entranceexperience.com
SUMMARY:Happy Hour Special
DESCRIPTION:Slide through for the best Happy Hour in the city \n3–7PM • Tue–Thu ½ off drinks • Fri ½ off apps + ½ off drinks
URL:https://entranceexperience.com/event/happy-hour-special/2026-04-30/
LOCATION:The Entrance (Front Entrance)\, 15101 Dixie Highway\, Harvey\, IL\, 60426\, United States
CATEGORIES:Weekday Event & Specials
ATTACH;FMTTYPE=image/png:https://entranceexperience.com/wp-content/uploads/2026/03/Happy-Hour-ENT.png
ORGANIZER;CN="The Entrance":MAILTO:info@entranceexperience.com
END:VEVENT
BEGIN:VEVENT
DTSTART;TZID=America/Chicago:20260501T150000
DTEND;TZID=America/Chicago:20260501T190000
DTSTAMP:20260421T200752
CREATED:20260303T000210Z
LAST-MODIFIED:20260303T000211Z
UID:10000734-1777647600-1777662000@entranceexperience.com
SUMMARY:Happy Hour Special
DESCRIPTION:Slide through for the best Happy Hour in the city \n3–7PM • Tue–Thu ½ off drinks • Fri ½ off apps + ½ off drinks
URL:https://entranceexperience.com/event/happy-hour-special/2026-05-01/
LOCATION:The Entrance (Front Entrance)\, 15101 Dixie Highway\, Harvey\, IL\, 60426\, United States
CATEGORIES:Weekday Event & Specials
ATTACH;FMTTYPE=image/png:https://entranceexperience.com/wp-content/uploads/2026/03/Happy-Hour-ENT.png
ORGANIZER;CN="The Entrance":MAILTO:info@entranceexperience.com
END:VEVENT
BEGIN:VEVENT
DTSTART;TZID=America/Chicago:20260501T180000
DTEND;TZID=America/Chicago:20260501T230000
DTSTAMP:20260421T200752
CREATED:20260116T160419Z
LAST-MODIFIED:20260116T160420Z
UID:10000689-1777658400-1777676400@entranceexperience.com
SUMMARY:Karaoke Friday's
DESCRIPTION:Join us each and every Friday for food\, drinks\, music & karaoke!
URL:https://entranceexperience.com/event/karaoke-fridays/2026-05-01/
LOCATION:The Entrance (Front Entrance)\, 15101 Dixie Highway\, Harvey\, IL\, 60426\, United States
CATEGORIES:Karaoke Fridays,Weekend Events
ATTACH;FMTTYPE=image/jpeg:https://entranceexperience.com/wp-content/uploads/2025/12/ff43c158-50ed-4b21-a62b-32f781ba79b6.jpg
ORGANIZER;CN="The Entrance":MAILTO:info@entranceexperience.com
END:VEVENT
BEGIN:VEVENT
DTSTART;TZID=America/Chicago:20260502T190000
DTEND;TZID=America/Chicago:20260502T233000
DTSTAMP:20260421T200752
CREATED:20260103T164521Z
LAST-MODIFIED:20260103T164848Z
UID:10000559-1777748400-1777764600@entranceexperience.com
SUMMARY:Front & Center Saturdays
DESCRIPTION:
URL:https://entranceexperience.com/event/front-center-saturdays/2026-05-02/
LOCATION:The Entrance (Front Entrance)\, 15101 Dixie Highway\, Harvey\, IL\, 60426\, United States
CATEGORIES:Party
ATTACH;FMTTYPE=image/png:https://entranceexperience.com/wp-content/uploads/2026/01/Front-Center-Saturdays.png
ORGANIZER;CN="The Entrance":MAILTO:info@entranceexperience.com
END:VEVENT
BEGIN:VEVENT
DTSTART;TZID=America/Chicago:20260502T200000
DTEND;TZID=America/Chicago:20260503T000000
DTSTAMP:20260421T200752
CREATED:20260218T174254Z
LAST-MODIFIED:20260218T175225Z
UID:10000697-1777752000-1777766400@entranceexperience.com
SUMMARY:R&B All White Affair
DESCRIPTION:Get ready to groove all night long in your freshest white outfit with Javon Watson at the R&B All White Affair with The Izreelsoul band \nClick Here For Tickets To This Event
URL:https://entranceexperience.com/event/rb-all-white-affair/
LOCATION:The Entrance (Rear Entrance)\, 15101 Dixie Highway\, Harvey\, IL\, 60426\, United States
CATEGORIES:Concert,Evening Show
ATTACH;FMTTYPE=image/jpeg:https://entranceexperience.com/wp-content/uploads/2026/02/624568742031-1.jpg
END:VEVENT
BEGIN:VEVENT
DTSTART;TZID=America/Chicago:20260505T150000
DTEND;TZID=America/Chicago:20260505T190000
DTSTAMP:20260421T200752
CREATED:20260303T000210Z
LAST-MODIFIED:20260303T000211Z
UID:10000735-1777993200-1778007600@entranceexperience.com
SUMMARY:Happy Hour Special
DESCRIPTION:Slide through for the best Happy Hour in the city \n3–7PM • Tue–Thu ½ off drinks • Fri ½ off apps + ½ off drinks
URL:https://entranceexperience.com/event/happy-hour-special/2026-05-05/
LOCATION:The Entrance (Front Entrance)\, 15101 Dixie Highway\, Harvey\, IL\, 60426\, United States
CATEGORIES:Weekday Event & Specials
ATTACH;FMTTYPE=image/png:https://entranceexperience.com/wp-content/uploads/2026/03/Happy-Hour-ENT.png
ORGANIZER;CN="The Entrance":MAILTO:info@entranceexperience.com
END:VEVENT
BEGIN:VEVENT
DTSTART;TZID=America/Chicago:20260505T190000
DTEND;TZID=America/Chicago:20260505T233000
DTSTAMP:20260421T200752
CREATED:20260103T165258Z
LAST-MODIFIED:20260103T165258Z
UID:10000624-1778007600-1778023800@entranceexperience.com
SUMMARY:Taco Tuesday & Game Night
DESCRIPTION:
URL:https://entranceexperience.com/event/taco-tuesday-game-night/2026-05-05/
LOCATION:The Entrance (Front Entrance)\, 15101 Dixie Highway\, Harvey\, IL\, 60426\, United States
CATEGORIES:Weekday Event & Specials
ATTACH;FMTTYPE=image/png:https://entranceexperience.com/wp-content/uploads/2026/01/Taco-Tuesday-Final.png
ORGANIZER;CN="The Entrance":MAILTO:info@entranceexperience.com
END:VEVENT
BEGIN:VEVENT
DTSTART;TZID=America/Chicago:20260506T150000
DTEND;TZID=America/Chicago:20260506T190000
DTSTAMP:20260421T200752
CREATED:20260303T000210Z
LAST-MODIFIED:20260303T000211Z
UID:10000736-1778079600-1778094000@entranceexperience.com
SUMMARY:Happy Hour Special
DESCRIPTION:Slide through for the best Happy Hour in the city \n3–7PM • Tue–Thu ½ off drinks • Fri ½ off apps + ½ off drinks
URL:https://entranceexperience.com/event/happy-hour-special/2026-05-06/
LOCATION:The Entrance (Front Entrance)\, 15101 Dixie Highway\, Harvey\, IL\, 60426\, United States
CATEGORIES:Weekday Event & Specials
ATTACH;FMTTYPE=image/png:https://entranceexperience.com/wp-content/uploads/2026/03/Happy-Hour-ENT.png
ORGANIZER;CN="The Entrance":MAILTO:info@entranceexperience.com
END:VEVENT
END:VCALENDAR