BEGIN:VCALENDAR
VERSION:2.0
PRODID:-//The Entrance Experience - ECPv6.15.20//NONSGML v1.0//EN
CALSCALE:GREGORIAN
METHOD:PUBLISH
X-ORIGINAL-URL:https://entranceexperience.com
X-WR-CALDESC:Events for The Entrance Experience
REFRESH-INTERVAL;VALUE=DURATION:PT1H
X-Robots-Tag:noindex
X-PUBLISHED-TTL:PT1H
BEGIN:VTIMEZONE
TZID:America/Chicago
BEGIN:DAYLIGHT
TZOFFSETFROM:-0600
TZOFFSETTO:-0500
TZNAME:CDT
DTSTART:20250309T080000
END:DAYLIGHT
BEGIN:STANDARD
TZOFFSETFROM:-0500
TZOFFSETTO:-0600
TZNAME:CST
DTSTART:20251102T070000
END:STANDARD
BEGIN:DAYLIGHT
TZOFFSETFROM:-0600
TZOFFSETTO:-0500
TZNAME:CDT
DTSTART:20260308T080000
END:DAYLIGHT
BEGIN:STANDARD
TZOFFSETFROM:-0500
TZOFFSETTO:-0600
TZNAME:CST
DTSTART:20261101T070000
END:STANDARD
BEGIN:DAYLIGHT
TZOFFSETFROM:-0600
TZOFFSETTO:-0500
TZNAME:CDT
DTSTART:20270314T080000
END:DAYLIGHT
BEGIN:STANDARD
TZOFFSETFROM:-0500
TZOFFSETTO:-0600
TZNAME:CST
DTSTART:20271107T070000
END:STANDARD
END:VTIMEZONE
BEGIN:VEVENT
DTSTART;TZID=America/Chicago:20260407T190000
DTEND;TZID=America/Chicago:20260407T233000
DTSTAMP:20260421T180748
CREATED:20260103T165258Z
LAST-MODIFIED:20260103T165258Z
UID:10000620-1775588400-1775604600@entranceexperience.com
SUMMARY:Taco Tuesday & Game Night
DESCRIPTION:
URL:https://entranceexperience.com/event/taco-tuesday-game-night/2026-04-07/
LOCATION:The Entrance (Front Entrance)\, 15101 Dixie Highway\, Harvey\, IL\, 60426\, United States
CATEGORIES:Weekday Event & Specials
ATTACH;FMTTYPE=image/png:https://entranceexperience.com/wp-content/uploads/2026/01/Taco-Tuesday-Final.png
ORGANIZER;CN="The Entrance":MAILTO:info@entranceexperience.com
END:VEVENT
BEGIN:VEVENT
DTSTART;TZID=America/Chicago:20260407T150000
DTEND;TZID=America/Chicago:20260407T190000
DTSTAMP:20260421T180748
CREATED:20260303T000210Z
LAST-MODIFIED:20260303T000211Z
UID:10000719-1775574000-1775588400@entranceexperience.com
SUMMARY:Happy Hour Special
DESCRIPTION:Slide through for the best Happy Hour in the city \n3–7PM • Tue–Thu ½ off drinks • Fri ½ off apps + ½ off drinks
URL:https://entranceexperience.com/event/happy-hour-special/2026-04-07/
LOCATION:The Entrance (Front Entrance)\, 15101 Dixie Highway\, Harvey\, IL\, 60426\, United States
CATEGORIES:Weekday Event & Specials
ATTACH;FMTTYPE=image/png:https://entranceexperience.com/wp-content/uploads/2026/03/Happy-Hour-ENT.png
ORGANIZER;CN="The Entrance":MAILTO:info@entranceexperience.com
END:VEVENT
BEGIN:VEVENT
DTSTART;TZID=America/Chicago:20260404T190000
DTEND;TZID=America/Chicago:20260404T233000
DTSTAMP:20260421T180748
CREATED:20260103T164521Z
LAST-MODIFIED:20260103T164848Z
UID:10000555-1775329200-1775345400@entranceexperience.com
SUMMARY:Front & Center Saturdays
DESCRIPTION:
URL:https://entranceexperience.com/event/front-center-saturdays/2026-04-04/
LOCATION:The Entrance (Front Entrance)\, 15101 Dixie Highway\, Harvey\, IL\, 60426\, United States
CATEGORIES:Party
ATTACH;FMTTYPE=image/png:https://entranceexperience.com/wp-content/uploads/2026/01/Front-Center-Saturdays.png
ORGANIZER;CN="The Entrance":MAILTO:info@entranceexperience.com
END:VEVENT
BEGIN:VEVENT
DTSTART;TZID=America/Chicago:20260403T180000
DTEND;TZID=America/Chicago:20260403T230000
DTSTAMP:20260421T180748
CREATED:20260116T160419Z
LAST-MODIFIED:20260116T160420Z
UID:10000685-1775239200-1775257200@entranceexperience.com
SUMMARY:Karaoke Friday's
DESCRIPTION:Join us each and every Friday for food\, drinks\, music & karaoke!
URL:https://entranceexperience.com/event/karaoke-fridays/2026-04-03/
LOCATION:The Entrance (Front Entrance)\, 15101 Dixie Highway\, Harvey\, IL\, 60426\, United States
CATEGORIES:Karaoke Fridays,Weekend Events
ATTACH;FMTTYPE=image/jpeg:https://entranceexperience.com/wp-content/uploads/2025/12/ff43c158-50ed-4b21-a62b-32f781ba79b6.jpg
ORGANIZER;CN="The Entrance":MAILTO:info@entranceexperience.com
END:VEVENT
BEGIN:VEVENT
DTSTART;TZID=America/Chicago:20260403T150000
DTEND;TZID=America/Chicago:20260403T190000
DTSTAMP:20260421T180748
CREATED:20260303T000210Z
LAST-MODIFIED:20260303T000211Z
UID:10000718-1775228400-1775242800@entranceexperience.com
SUMMARY:Happy Hour Special
DESCRIPTION:Slide through for the best Happy Hour in the city \n3–7PM • Tue–Thu ½ off drinks • Fri ½ off apps + ½ off drinks
URL:https://entranceexperience.com/event/happy-hour-special/2026-04-03/
LOCATION:The Entrance (Front Entrance)\, 15101 Dixie Highway\, Harvey\, IL\, 60426\, United States
CATEGORIES:Weekday Event & Specials
ATTACH;FMTTYPE=image/png:https://entranceexperience.com/wp-content/uploads/2026/03/Happy-Hour-ENT.png
ORGANIZER;CN="The Entrance":MAILTO:info@entranceexperience.com
END:VEVENT
BEGIN:VEVENT
DTSTART;TZID=America/Chicago:20260402T150000
DTEND;TZID=America/Chicago:20260402T190000
DTSTAMP:20260421T180748
CREATED:20260303T000210Z
LAST-MODIFIED:20260303T000211Z
UID:10000717-1775142000-1775156400@entranceexperience.com
SUMMARY:Happy Hour Special
DESCRIPTION:Slide through for the best Happy Hour in the city \n3–7PM • Tue–Thu ½ off drinks • Fri ½ off apps + ½ off drinks
URL:https://entranceexperience.com/event/happy-hour-special/2026-04-02/
LOCATION:The Entrance (Front Entrance)\, 15101 Dixie Highway\, Harvey\, IL\, 60426\, United States
CATEGORIES:Weekday Event & Specials
ATTACH;FMTTYPE=image/png:https://entranceexperience.com/wp-content/uploads/2026/03/Happy-Hour-ENT.png
ORGANIZER;CN="The Entrance":MAILTO:info@entranceexperience.com
END:VEVENT
BEGIN:VEVENT
DTSTART;TZID=America/Chicago:20260401T150000
DTEND;TZID=America/Chicago:20260401T190000
DTSTAMP:20260421T180748
CREATED:20260303T000210Z
LAST-MODIFIED:20260303T000211Z
UID:10000716-1775055600-1775070000@entranceexperience.com
SUMMARY:Happy Hour Special
DESCRIPTION:Slide through for the best Happy Hour in the city \n3–7PM • Tue–Thu ½ off drinks • Fri ½ off apps + ½ off drinks
URL:https://entranceexperience.com/event/happy-hour-special/2026-04-01/
LOCATION:The Entrance (Front Entrance)\, 15101 Dixie Highway\, Harvey\, IL\, 60426\, United States
CATEGORIES:Weekday Event & Specials
ATTACH;FMTTYPE=image/png:https://entranceexperience.com/wp-content/uploads/2026/03/Happy-Hour-ENT.png
ORGANIZER;CN="The Entrance":MAILTO:info@entranceexperience.com
END:VEVENT
BEGIN:VEVENT
DTSTART;TZID=America/Chicago:20260331T190000
DTEND;TZID=America/Chicago:20260331T233000
DTSTAMP:20260421T180748
CREATED:20260103T165258Z
LAST-MODIFIED:20260103T165258Z
UID:10000619-1774983600-1774999800@entranceexperience.com
SUMMARY:Taco Tuesday & Game Night
DESCRIPTION:
URL:https://entranceexperience.com/event/taco-tuesday-game-night/2026-03-31/
LOCATION:The Entrance (Front Entrance)\, 15101 Dixie Highway\, Harvey\, IL\, 60426\, United States
CATEGORIES:Weekday Event & Specials
ATTACH;FMTTYPE=image/png:https://entranceexperience.com/wp-content/uploads/2026/01/Taco-Tuesday-Final.png
ORGANIZER;CN="The Entrance":MAILTO:info@entranceexperience.com
END:VEVENT
BEGIN:VEVENT
DTSTART;TZID=America/Chicago:20260331T150000
DTEND;TZID=America/Chicago:20260331T190000
DTSTAMP:20260421T180748
CREATED:20260303T000210Z
LAST-MODIFIED:20260303T000211Z
UID:10000715-1774969200-1774983600@entranceexperience.com
SUMMARY:Happy Hour Special
DESCRIPTION:Slide through for the best Happy Hour in the city \n3–7PM • Tue–Thu ½ off drinks • Fri ½ off apps + ½ off drinks
URL:https://entranceexperience.com/event/happy-hour-special/2026-03-31/
LOCATION:The Entrance (Front Entrance)\, 15101 Dixie Highway\, Harvey\, IL\, 60426\, United States
CATEGORIES:Weekday Event & Specials
ATTACH;FMTTYPE=image/png:https://entranceexperience.com/wp-content/uploads/2026/03/Happy-Hour-ENT.png
ORGANIZER;CN="The Entrance":MAILTO:info@entranceexperience.com
END:VEVENT
BEGIN:VEVENT
DTSTART;TZID=America/Chicago:20260328T190000
DTEND;TZID=America/Chicago:20260328T233000
DTSTAMP:20260421T180748
CREATED:20260103T164521Z
LAST-MODIFIED:20260103T164848Z
UID:10000554-1774724400-1774740600@entranceexperience.com
SUMMARY:Front & Center Saturdays
DESCRIPTION:
URL:https://entranceexperience.com/event/front-center-saturdays/2026-03-28/
LOCATION:The Entrance (Front Entrance)\, 15101 Dixie Highway\, Harvey\, IL\, 60426\, United States
CATEGORIES:Party
ATTACH;FMTTYPE=image/png:https://entranceexperience.com/wp-content/uploads/2026/01/Front-Center-Saturdays.png
ORGANIZER;CN="The Entrance":MAILTO:info@entranceexperience.com
END:VEVENT
BEGIN:VEVENT
DTSTART;TZID=America/Chicago:20260327T180000
DTEND;TZID=America/Chicago:20260327T230000
DTSTAMP:20260421T180748
CREATED:20260116T160419Z
LAST-MODIFIED:20260116T160420Z
UID:10000684-1774634400-1774652400@entranceexperience.com
SUMMARY:Karaoke Friday's
DESCRIPTION:Join us each and every Friday for food\, drinks\, music & karaoke!
URL:https://entranceexperience.com/event/karaoke-fridays/2026-03-27/
LOCATION:The Entrance (Front Entrance)\, 15101 Dixie Highway\, Harvey\, IL\, 60426\, United States
CATEGORIES:Karaoke Fridays,Weekend Events
ATTACH;FMTTYPE=image/jpeg:https://entranceexperience.com/wp-content/uploads/2025/12/ff43c158-50ed-4b21-a62b-32f781ba79b6.jpg
ORGANIZER;CN="The Entrance":MAILTO:info@entranceexperience.com
END:VEVENT
BEGIN:VEVENT
DTSTART;TZID=America/Chicago:20260327T150000
DTEND;TZID=America/Chicago:20260327T190000
DTSTAMP:20260421T180748
CREATED:20260303T000210Z
LAST-MODIFIED:20260303T000211Z
UID:10000714-1774623600-1774638000@entranceexperience.com
SUMMARY:Happy Hour Special
DESCRIPTION:Slide through for the best Happy Hour in the city \n3–7PM • Tue–Thu ½ off drinks • Fri ½ off apps + ½ off drinks
URL:https://entranceexperience.com/event/happy-hour-special/2026-03-27/
LOCATION:The Entrance (Front Entrance)\, 15101 Dixie Highway\, Harvey\, IL\, 60426\, United States
CATEGORIES:Weekday Event & Specials
ATTACH;FMTTYPE=image/png:https://entranceexperience.com/wp-content/uploads/2026/03/Happy-Hour-ENT.png
ORGANIZER;CN="The Entrance":MAILTO:info@entranceexperience.com
END:VEVENT
BEGIN:VEVENT
DTSTART;TZID=America/Chicago:20260326T150000
DTEND;TZID=America/Chicago:20260326T190000
DTSTAMP:20260421T180748
CREATED:20260303T000210Z
LAST-MODIFIED:20260303T000211Z
UID:10000713-1774537200-1774551600@entranceexperience.com
SUMMARY:Happy Hour Special
DESCRIPTION:Slide through for the best Happy Hour in the city \n3–7PM • Tue–Thu ½ off drinks • Fri ½ off apps + ½ off drinks
URL:https://entranceexperience.com/event/happy-hour-special/2026-03-26/
LOCATION:The Entrance (Front Entrance)\, 15101 Dixie Highway\, Harvey\, IL\, 60426\, United States
CATEGORIES:Weekday Event & Specials
ATTACH;FMTTYPE=image/png:https://entranceexperience.com/wp-content/uploads/2026/03/Happy-Hour-ENT.png
ORGANIZER;CN="The Entrance":MAILTO:info@entranceexperience.com
END:VEVENT
BEGIN:VEVENT
DTSTART;TZID=America/Chicago:20260325T150000
DTEND;TZID=America/Chicago:20260325T190000
DTSTAMP:20260421T180748
CREATED:20260303T000210Z
LAST-MODIFIED:20260303T000211Z
UID:10000712-1774450800-1774465200@entranceexperience.com
SUMMARY:Happy Hour Special
DESCRIPTION:Slide through for the best Happy Hour in the city \n3–7PM • Tue–Thu ½ off drinks • Fri ½ off apps + ½ off drinks
URL:https://entranceexperience.com/event/happy-hour-special/2026-03-25/
LOCATION:The Entrance (Front Entrance)\, 15101 Dixie Highway\, Harvey\, IL\, 60426\, United States
CATEGORIES:Weekday Event & Specials
ATTACH;FMTTYPE=image/png:https://entranceexperience.com/wp-content/uploads/2026/03/Happy-Hour-ENT.png
ORGANIZER;CN="The Entrance":MAILTO:info@entranceexperience.com
END:VEVENT
BEGIN:VEVENT
DTSTART;TZID=America/Chicago:20260324T190000
DTEND;TZID=America/Chicago:20260324T233000
DTSTAMP:20260421T180748
CREATED:20260103T165258Z
LAST-MODIFIED:20260103T165258Z
UID:10000618-1774378800-1774395000@entranceexperience.com
SUMMARY:Taco Tuesday & Game Night
DESCRIPTION:
URL:https://entranceexperience.com/event/taco-tuesday-game-night/2026-03-24/
LOCATION:The Entrance (Front Entrance)\, 15101 Dixie Highway\, Harvey\, IL\, 60426\, United States
CATEGORIES:Weekday Event & Specials
ATTACH;FMTTYPE=image/png:https://entranceexperience.com/wp-content/uploads/2026/01/Taco-Tuesday-Final.png
ORGANIZER;CN="The Entrance":MAILTO:info@entranceexperience.com
END:VEVENT
BEGIN:VEVENT
DTSTART;TZID=America/Chicago:20260324T150000
DTEND;TZID=America/Chicago:20260324T190000
DTSTAMP:20260421T180748
CREATED:20260303T000210Z
LAST-MODIFIED:20260303T000211Z
UID:10000711-1774364400-1774378800@entranceexperience.com
SUMMARY:Happy Hour Special
DESCRIPTION:Slide through for the best Happy Hour in the city \n3–7PM • Tue–Thu ½ off drinks • Fri ½ off apps + ½ off drinks
URL:https://entranceexperience.com/event/happy-hour-special/2026-03-24/
LOCATION:The Entrance (Front Entrance)\, 15101 Dixie Highway\, Harvey\, IL\, 60426\, United States
CATEGORIES:Weekday Event & Specials
ATTACH;FMTTYPE=image/png:https://entranceexperience.com/wp-content/uploads/2026/03/Happy-Hour-ENT.png
ORGANIZER;CN="The Entrance":MAILTO:info@entranceexperience.com
END:VEVENT
BEGIN:VEVENT
DTSTART;TZID=America/Chicago:20260321T190000
DTEND;TZID=America/Chicago:20260321T233000
DTSTAMP:20260421T180748
CREATED:20260103T164521Z
LAST-MODIFIED:20260103T164848Z
UID:10000553-1774119600-1774135800@entranceexperience.com
SUMMARY:Front & Center Saturdays
DESCRIPTION:
URL:https://entranceexperience.com/event/front-center-saturdays/2026-03-21/
LOCATION:The Entrance (Front Entrance)\, 15101 Dixie Highway\, Harvey\, IL\, 60426\, United States
CATEGORIES:Party
ATTACH;FMTTYPE=image/png:https://entranceexperience.com/wp-content/uploads/2026/01/Front-Center-Saturdays.png
ORGANIZER;CN="The Entrance":MAILTO:info@entranceexperience.com
END:VEVENT
BEGIN:VEVENT
DTSTART;TZID=America/Chicago:20260320T180000
DTEND;TZID=America/Chicago:20260320T230000
DTSTAMP:20260421T180748
CREATED:20260116T160419Z
LAST-MODIFIED:20260116T160420Z
UID:10000683-1774029600-1774047600@entranceexperience.com
SUMMARY:Karaoke Friday's
DESCRIPTION:Join us each and every Friday for food\, drinks\, music & karaoke!
URL:https://entranceexperience.com/event/karaoke-fridays/2026-03-20/
LOCATION:The Entrance (Front Entrance)\, 15101 Dixie Highway\, Harvey\, IL\, 60426\, United States
CATEGORIES:Karaoke Fridays,Weekend Events
ATTACH;FMTTYPE=image/jpeg:https://entranceexperience.com/wp-content/uploads/2025/12/ff43c158-50ed-4b21-a62b-32f781ba79b6.jpg
ORGANIZER;CN="The Entrance":MAILTO:info@entranceexperience.com
END:VEVENT
BEGIN:VEVENT
DTSTART;TZID=America/Chicago:20260320T150000
DTEND;TZID=America/Chicago:20260320T190000
DTSTAMP:20260421T180748
CREATED:20260303T000210Z
LAST-MODIFIED:20260303T000211Z
UID:10000710-1774018800-1774033200@entranceexperience.com
SUMMARY:Happy Hour Special
DESCRIPTION:Slide through for the best Happy Hour in the city \n3–7PM • Tue–Thu ½ off drinks • Fri ½ off apps + ½ off drinks
URL:https://entranceexperience.com/event/happy-hour-special/2026-03-20/
LOCATION:The Entrance (Front Entrance)\, 15101 Dixie Highway\, Harvey\, IL\, 60426\, United States
CATEGORIES:Weekday Event & Specials
ATTACH;FMTTYPE=image/png:https://entranceexperience.com/wp-content/uploads/2026/03/Happy-Hour-ENT.png
ORGANIZER;CN="The Entrance":MAILTO:info@entranceexperience.com
END:VEVENT
BEGIN:VEVENT
DTSTART;TZID=America/Chicago:20260319T150000
DTEND;TZID=America/Chicago:20260319T190000
DTSTAMP:20260421T180748
CREATED:20260303T000210Z
LAST-MODIFIED:20260303T000211Z
UID:10000709-1773932400-1773946800@entranceexperience.com
SUMMARY:Happy Hour Special
DESCRIPTION:Slide through for the best Happy Hour in the city \n3–7PM • Tue–Thu ½ off drinks • Fri ½ off apps + ½ off drinks
URL:https://entranceexperience.com/event/happy-hour-special/2026-03-19/
LOCATION:The Entrance (Front Entrance)\, 15101 Dixie Highway\, Harvey\, IL\, 60426\, United States
CATEGORIES:Weekday Event & Specials
ATTACH;FMTTYPE=image/png:https://entranceexperience.com/wp-content/uploads/2026/03/Happy-Hour-ENT.png
ORGANIZER;CN="The Entrance":MAILTO:info@entranceexperience.com
END:VEVENT
BEGIN:VEVENT
DTSTART;TZID=America/Chicago:20260318T150000
DTEND;TZID=America/Chicago:20260318T190000
DTSTAMP:20260421T180748
CREATED:20260303T000210Z
LAST-MODIFIED:20260303T000211Z
UID:10000708-1773846000-1773860400@entranceexperience.com
SUMMARY:Happy Hour Special
DESCRIPTION:Slide through for the best Happy Hour in the city \n3–7PM • Tue–Thu ½ off drinks • Fri ½ off apps + ½ off drinks
URL:https://entranceexperience.com/event/happy-hour-special/2026-03-18/
LOCATION:The Entrance (Front Entrance)\, 15101 Dixie Highway\, Harvey\, IL\, 60426\, United States
CATEGORIES:Weekday Event & Specials
ATTACH;FMTTYPE=image/png:https://entranceexperience.com/wp-content/uploads/2026/03/Happy-Hour-ENT.png
ORGANIZER;CN="The Entrance":MAILTO:info@entranceexperience.com
END:VEVENT
BEGIN:VEVENT
DTSTART;TZID=America/Chicago:20260317T190000
DTEND;TZID=America/Chicago:20260317T233000
DTSTAMP:20260421T180748
CREATED:20260103T165258Z
LAST-MODIFIED:20260103T165258Z
UID:10000617-1773774000-1773790200@entranceexperience.com
SUMMARY:Taco Tuesday & Game Night
DESCRIPTION:
URL:https://entranceexperience.com/event/taco-tuesday-game-night/2026-03-17/
LOCATION:The Entrance (Front Entrance)\, 15101 Dixie Highway\, Harvey\, IL\, 60426\, United States
CATEGORIES:Weekday Event & Specials
ATTACH;FMTTYPE=image/png:https://entranceexperience.com/wp-content/uploads/2026/01/Taco-Tuesday-Final.png
ORGANIZER;CN="The Entrance":MAILTO:info@entranceexperience.com
END:VEVENT
BEGIN:VEVENT
DTSTART;TZID=America/Chicago:20260317T150000
DTEND;TZID=America/Chicago:20260317T190000
DTSTAMP:20260421T180748
CREATED:20260303T000210Z
LAST-MODIFIED:20260303T000211Z
UID:10000707-1773759600-1773774000@entranceexperience.com
SUMMARY:Happy Hour Special
DESCRIPTION:Slide through for the best Happy Hour in the city \n3–7PM • Tue–Thu ½ off drinks • Fri ½ off apps + ½ off drinks
URL:https://entranceexperience.com/event/happy-hour-special/2026-03-17/
LOCATION:The Entrance (Front Entrance)\, 15101 Dixie Highway\, Harvey\, IL\, 60426\, United States
CATEGORIES:Weekday Event & Specials
ATTACH;FMTTYPE=image/png:https://entranceexperience.com/wp-content/uploads/2026/03/Happy-Hour-ENT.png
ORGANIZER;CN="The Entrance":MAILTO:info@entranceexperience.com
END:VEVENT
BEGIN:VEVENT
DTSTART;TZID=America/Chicago:20260314T190000
DTEND;TZID=America/Chicago:20260314T233000
DTSTAMP:20260421T180748
CREATED:20260103T164521Z
LAST-MODIFIED:20260103T164848Z
UID:10000552-1773514800-1773531000@entranceexperience.com
SUMMARY:Front & Center Saturdays
DESCRIPTION:
URL:https://entranceexperience.com/event/front-center-saturdays/2026-03-14/
LOCATION:The Entrance (Front Entrance)\, 15101 Dixie Highway\, Harvey\, IL\, 60426\, United States
CATEGORIES:Party
ATTACH;FMTTYPE=image/png:https://entranceexperience.com/wp-content/uploads/2026/01/Front-Center-Saturdays.png
ORGANIZER;CN="The Entrance":MAILTO:info@entranceexperience.com
END:VEVENT
BEGIN:VEVENT
DTSTART;TZID=America/Chicago:20260313T180000
DTEND;TZID=America/Chicago:20260313T230000
DTSTAMP:20260421T180748
CREATED:20260116T160419Z
LAST-MODIFIED:20260116T160420Z
UID:10000682-1773424800-1773442800@entranceexperience.com
SUMMARY:Karaoke Friday's
DESCRIPTION:Join us each and every Friday for food\, drinks\, music & karaoke!
URL:https://entranceexperience.com/event/karaoke-fridays/2026-03-13/
LOCATION:The Entrance (Front Entrance)\, 15101 Dixie Highway\, Harvey\, IL\, 60426\, United States
CATEGORIES:Karaoke Fridays,Weekend Events
ATTACH;FMTTYPE=image/jpeg:https://entranceexperience.com/wp-content/uploads/2025/12/ff43c158-50ed-4b21-a62b-32f781ba79b6.jpg
ORGANIZER;CN="The Entrance":MAILTO:info@entranceexperience.com
END:VEVENT
BEGIN:VEVENT
DTSTART;TZID=America/Chicago:20260313T150000
DTEND;TZID=America/Chicago:20260313T190000
DTSTAMP:20260421T180748
CREATED:20260303T000210Z
LAST-MODIFIED:20260303T000211Z
UID:10000706-1773414000-1773428400@entranceexperience.com
SUMMARY:Happy Hour Special
DESCRIPTION:Slide through for the best Happy Hour in the city \n3–7PM • Tue–Thu ½ off drinks • Fri ½ off apps + ½ off drinks
URL:https://entranceexperience.com/event/happy-hour-special/2026-03-13/
LOCATION:The Entrance (Front Entrance)\, 15101 Dixie Highway\, Harvey\, IL\, 60426\, United States
CATEGORIES:Weekday Event & Specials
ATTACH;FMTTYPE=image/png:https://entranceexperience.com/wp-content/uploads/2026/03/Happy-Hour-ENT.png
ORGANIZER;CN="The Entrance":MAILTO:info@entranceexperience.com
END:VEVENT
BEGIN:VEVENT
DTSTART;TZID=America/Chicago:20260312T150000
DTEND;TZID=America/Chicago:20260312T190000
DTSTAMP:20260421T180748
CREATED:20260303T000210Z
LAST-MODIFIED:20260303T000211Z
UID:10000705-1773327600-1773342000@entranceexperience.com
SUMMARY:Happy Hour Special
DESCRIPTION:Slide through for the best Happy Hour in the city \n3–7PM • Tue–Thu ½ off drinks • Fri ½ off apps + ½ off drinks
URL:https://entranceexperience.com/event/happy-hour-special/2026-03-12/
LOCATION:The Entrance (Front Entrance)\, 15101 Dixie Highway\, Harvey\, IL\, 60426\, United States
CATEGORIES:Weekday Event & Specials
ATTACH;FMTTYPE=image/png:https://entranceexperience.com/wp-content/uploads/2026/03/Happy-Hour-ENT.png
ORGANIZER;CN="The Entrance":MAILTO:info@entranceexperience.com
END:VEVENT
BEGIN:VEVENT
DTSTART;TZID=America/Chicago:20260311T150000
DTEND;TZID=America/Chicago:20260311T190000
DTSTAMP:20260421T180748
CREATED:20260303T000210Z
LAST-MODIFIED:20260303T000211Z
UID:10000704-1773241200-1773255600@entranceexperience.com
SUMMARY:Happy Hour Special
DESCRIPTION:Slide through for the best Happy Hour in the city \n3–7PM • Tue–Thu ½ off drinks • Fri ½ off apps + ½ off drinks
URL:https://entranceexperience.com/event/happy-hour-special/2026-03-11/
LOCATION:The Entrance (Front Entrance)\, 15101 Dixie Highway\, Harvey\, IL\, 60426\, United States
CATEGORIES:Weekday Event & Specials
ATTACH;FMTTYPE=image/png:https://entranceexperience.com/wp-content/uploads/2026/03/Happy-Hour-ENT.png
ORGANIZER;CN="The Entrance":MAILTO:info@entranceexperience.com
END:VEVENT
BEGIN:VEVENT
DTSTART;TZID=America/Chicago:20260310T190000
DTEND;TZID=America/Chicago:20260310T233000
DTSTAMP:20260421T180748
CREATED:20260103T165258Z
LAST-MODIFIED:20260103T165258Z
UID:10000616-1773169200-1773185400@entranceexperience.com
SUMMARY:Taco Tuesday & Game Night
DESCRIPTION:
URL:https://entranceexperience.com/event/taco-tuesday-game-night/2026-03-10/
LOCATION:The Entrance (Front Entrance)\, 15101 Dixie Highway\, Harvey\, IL\, 60426\, United States
CATEGORIES:Weekday Event & Specials
ATTACH;FMTTYPE=image/png:https://entranceexperience.com/wp-content/uploads/2026/01/Taco-Tuesday-Final.png
ORGANIZER;CN="The Entrance":MAILTO:info@entranceexperience.com
END:VEVENT
BEGIN:VEVENT
DTSTART;TZID=America/Chicago:20260310T150000
DTEND;TZID=America/Chicago:20260310T190000
DTSTAMP:20260421T180748
CREATED:20260303T000210Z
LAST-MODIFIED:20260303T000211Z
UID:10000703-1773154800-1773169200@entranceexperience.com
SUMMARY:Happy Hour Special
DESCRIPTION:Slide through for the best Happy Hour in the city \n3–7PM • Tue–Thu ½ off drinks • Fri ½ off apps + ½ off drinks
URL:https://entranceexperience.com/event/happy-hour-special/2026-03-10/
LOCATION:The Entrance (Front Entrance)\, 15101 Dixie Highway\, Harvey\, IL\, 60426\, United States
CATEGORIES:Weekday Event & Specials
ATTACH;FMTTYPE=image/png:https://entranceexperience.com/wp-content/uploads/2026/03/Happy-Hour-ENT.png
ORGANIZER;CN="The Entrance":MAILTO:info@entranceexperience.com
END:VEVENT
END:VCALENDAR