BEGIN:VCALENDAR
VERSION:2.0
PRODID:-//The Entrance Experience - ECPv6.15.20//NONSGML v1.0//EN
CALSCALE:GREGORIAN
METHOD:PUBLISH
X-WR-CALNAME:The Entrance Experience
X-ORIGINAL-URL:https://entranceexperience.com
X-WR-CALDESC:Events for The Entrance Experience
REFRESH-INTERVAL;VALUE=DURATION:PT1H
X-Robots-Tag:noindex
X-PUBLISHED-TTL:PT1H
BEGIN:VTIMEZONE
TZID:America/Chicago
BEGIN:DAYLIGHT
TZOFFSETFROM:-0600
TZOFFSETTO:-0500
TZNAME:CDT
DTSTART:20260308T080000
END:DAYLIGHT
BEGIN:STANDARD
TZOFFSETFROM:-0500
TZOFFSETTO:-0600
TZNAME:CST
DTSTART:20261101T070000
END:STANDARD
BEGIN:DAYLIGHT
TZOFFSETFROM:-0600
TZOFFSETTO:-0500
TZNAME:CDT
DTSTART:20270314T080000
END:DAYLIGHT
BEGIN:STANDARD
TZOFFSETFROM:-0500
TZOFFSETTO:-0600
TZNAME:CST
DTSTART:20271107T070000
END:STANDARD
BEGIN:DAYLIGHT
TZOFFSETFROM:-0600
TZOFFSETTO:-0500
TZNAME:CDT
DTSTART:20280312T080000
END:DAYLIGHT
BEGIN:STANDARD
TZOFFSETFROM:-0500
TZOFFSETTO:-0600
TZNAME:CST
DTSTART:20281105T070000
END:STANDARD
END:VTIMEZONE
BEGIN:VEVENT
DTSTART;TZID=America/Chicago:20270407T150000
DTEND;TZID=America/Chicago:20270407T190000
DTSTAMP:20260422T171956
CREATED:20260303T000210Z
LAST-MODIFIED:20260303T000211Z
UID:10000928-1807110000-1807124400@entranceexperience.com
SUMMARY:Happy Hour Special
DESCRIPTION:Slide through for the best Happy Hour in the city \n3–7PM • Tue–Thu ½ off drinks • Fri ½ off apps + ½ off drinks
URL:https://entranceexperience.com/event/happy-hour-special/2027-04-07/
LOCATION:The Entrance (Front Entrance)\, 15101 Dixie Highway\, Harvey\, IL\, 60426\, United States
CATEGORIES:Weekday Event & Specials
ATTACH;FMTTYPE=image/png:https://entranceexperience.com/wp-content/uploads/2026/03/Happy-Hour-ENT.png
ORGANIZER;CN="The Entrance":MAILTO:info@entranceexperience.com
END:VEVENT
BEGIN:VEVENT
DTSTART;TZID=America/Chicago:20270408T150000
DTEND;TZID=America/Chicago:20270408T190000
DTSTAMP:20260422T171956
CREATED:20260303T000210Z
LAST-MODIFIED:20260303T000211Z
UID:10000929-1807196400-1807210800@entranceexperience.com
SUMMARY:Happy Hour Special
DESCRIPTION:Slide through for the best Happy Hour in the city \n3–7PM • Tue–Thu ½ off drinks • Fri ½ off apps + ½ off drinks
URL:https://entranceexperience.com/event/happy-hour-special/2027-04-08/
LOCATION:The Entrance (Front Entrance)\, 15101 Dixie Highway\, Harvey\, IL\, 60426\, United States
CATEGORIES:Weekday Event & Specials
ATTACH;FMTTYPE=image/png:https://entranceexperience.com/wp-content/uploads/2026/03/Happy-Hour-ENT.png
ORGANIZER;CN="The Entrance":MAILTO:info@entranceexperience.com
END:VEVENT
BEGIN:VEVENT
DTSTART;TZID=America/Chicago:20270409T150000
DTEND;TZID=America/Chicago:20270409T190000
DTSTAMP:20260422T171956
CREATED:20260303T000210Z
LAST-MODIFIED:20260303T000211Z
UID:10000930-1807282800-1807297200@entranceexperience.com
SUMMARY:Happy Hour Special
DESCRIPTION:Slide through for the best Happy Hour in the city \n3–7PM • Tue–Thu ½ off drinks • Fri ½ off apps + ½ off drinks
URL:https://entranceexperience.com/event/happy-hour-special/2027-04-09/
LOCATION:The Entrance (Front Entrance)\, 15101 Dixie Highway\, Harvey\, IL\, 60426\, United States
CATEGORIES:Weekday Event & Specials
ATTACH;FMTTYPE=image/png:https://entranceexperience.com/wp-content/uploads/2026/03/Happy-Hour-ENT.png
ORGANIZER;CN="The Entrance":MAILTO:info@entranceexperience.com
END:VEVENT
BEGIN:VEVENT
DTSTART;TZID=America/Chicago:20270413T150000
DTEND;TZID=America/Chicago:20270413T190000
DTSTAMP:20260422T171956
CREATED:20260303T000210Z
LAST-MODIFIED:20260303T000211Z
UID:10000931-1807628400-1807642800@entranceexperience.com
SUMMARY:Happy Hour Special
DESCRIPTION:Slide through for the best Happy Hour in the city \n3–7PM • Tue–Thu ½ off drinks • Fri ½ off apps + ½ off drinks
URL:https://entranceexperience.com/event/happy-hour-special/2027-04-13/
LOCATION:The Entrance (Front Entrance)\, 15101 Dixie Highway\, Harvey\, IL\, 60426\, United States
CATEGORIES:Weekday Event & Specials
ATTACH;FMTTYPE=image/png:https://entranceexperience.com/wp-content/uploads/2026/03/Happy-Hour-ENT.png
ORGANIZER;CN="The Entrance":MAILTO:info@entranceexperience.com
END:VEVENT
BEGIN:VEVENT
DTSTART;TZID=America/Chicago:20270414T150000
DTEND;TZID=America/Chicago:20270414T190000
DTSTAMP:20260422T171956
CREATED:20260303T000210Z
LAST-MODIFIED:20260303T000211Z
UID:10000932-1807714800-1807729200@entranceexperience.com
SUMMARY:Happy Hour Special
DESCRIPTION:Slide through for the best Happy Hour in the city \n3–7PM • Tue–Thu ½ off drinks • Fri ½ off apps + ½ off drinks
URL:https://entranceexperience.com/event/happy-hour-special/2027-04-14/
LOCATION:The Entrance (Front Entrance)\, 15101 Dixie Highway\, Harvey\, IL\, 60426\, United States
CATEGORIES:Weekday Event & Specials
ATTACH;FMTTYPE=image/png:https://entranceexperience.com/wp-content/uploads/2026/03/Happy-Hour-ENT.png
ORGANIZER;CN="The Entrance":MAILTO:info@entranceexperience.com
END:VEVENT
BEGIN:VEVENT
DTSTART;TZID=America/Chicago:20270415T150000
DTEND;TZID=America/Chicago:20270415T190000
DTSTAMP:20260422T171956
CREATED:20260303T000210Z
LAST-MODIFIED:20260303T000211Z
UID:10000933-1807801200-1807815600@entranceexperience.com
SUMMARY:Happy Hour Special
DESCRIPTION:Slide through for the best Happy Hour in the city \n3–7PM • Tue–Thu ½ off drinks • Fri ½ off apps + ½ off drinks
URL:https://entranceexperience.com/event/happy-hour-special/2027-04-15/
LOCATION:The Entrance (Front Entrance)\, 15101 Dixie Highway\, Harvey\, IL\, 60426\, United States
CATEGORIES:Weekday Event & Specials
ATTACH;FMTTYPE=image/png:https://entranceexperience.com/wp-content/uploads/2026/03/Happy-Hour-ENT.png
ORGANIZER;CN="The Entrance":MAILTO:info@entranceexperience.com
END:VEVENT
BEGIN:VEVENT
DTSTART;TZID=America/Chicago:20270416T150000
DTEND;TZID=America/Chicago:20270416T190000
DTSTAMP:20260422T171956
CREATED:20260303T000210Z
LAST-MODIFIED:20260303T000211Z
UID:10000934-1807887600-1807902000@entranceexperience.com
SUMMARY:Happy Hour Special
DESCRIPTION:Slide through for the best Happy Hour in the city \n3–7PM • Tue–Thu ½ off drinks • Fri ½ off apps + ½ off drinks
URL:https://entranceexperience.com/event/happy-hour-special/2027-04-16/
LOCATION:The Entrance (Front Entrance)\, 15101 Dixie Highway\, Harvey\, IL\, 60426\, United States
CATEGORIES:Weekday Event & Specials
ATTACH;FMTTYPE=image/png:https://entranceexperience.com/wp-content/uploads/2026/03/Happy-Hour-ENT.png
ORGANIZER;CN="The Entrance":MAILTO:info@entranceexperience.com
END:VEVENT
BEGIN:VEVENT
DTSTART;TZID=America/Chicago:20270420T150000
DTEND;TZID=America/Chicago:20270420T190000
DTSTAMP:20260422T171956
CREATED:20260303T000210Z
LAST-MODIFIED:20260303T000211Z
UID:10000935-1808233200-1808247600@entranceexperience.com
SUMMARY:Happy Hour Special
DESCRIPTION:Slide through for the best Happy Hour in the city \n3–7PM • Tue–Thu ½ off drinks • Fri ½ off apps + ½ off drinks
URL:https://entranceexperience.com/event/happy-hour-special/2027-04-20/
LOCATION:The Entrance (Front Entrance)\, 15101 Dixie Highway\, Harvey\, IL\, 60426\, United States
CATEGORIES:Weekday Event & Specials
ATTACH;FMTTYPE=image/png:https://entranceexperience.com/wp-content/uploads/2026/03/Happy-Hour-ENT.png
ORGANIZER;CN="The Entrance":MAILTO:info@entranceexperience.com
END:VEVENT
BEGIN:VEVENT
DTSTART;TZID=America/Chicago:20270421T150000
DTEND;TZID=America/Chicago:20270421T190000
DTSTAMP:20260422T171956
CREATED:20260303T000210Z
LAST-MODIFIED:20260303T000211Z
UID:10000936-1808319600-1808334000@entranceexperience.com
SUMMARY:Happy Hour Special
DESCRIPTION:Slide through for the best Happy Hour in the city \n3–7PM • Tue–Thu ½ off drinks • Fri ½ off apps + ½ off drinks
URL:https://entranceexperience.com/event/happy-hour-special/2027-04-21/
LOCATION:The Entrance (Front Entrance)\, 15101 Dixie Highway\, Harvey\, IL\, 60426\, United States
CATEGORIES:Weekday Event & Specials
ATTACH;FMTTYPE=image/png:https://entranceexperience.com/wp-content/uploads/2026/03/Happy-Hour-ENT.png
ORGANIZER;CN="The Entrance":MAILTO:info@entranceexperience.com
END:VEVENT
BEGIN:VEVENT
DTSTART;TZID=America/Chicago:20270422T150000
DTEND;TZID=America/Chicago:20270422T190000
DTSTAMP:20260422T171956
CREATED:20260303T000210Z
LAST-MODIFIED:20260303T000211Z
UID:10000937-1808406000-1808420400@entranceexperience.com
SUMMARY:Happy Hour Special
DESCRIPTION:Slide through for the best Happy Hour in the city \n3–7PM • Tue–Thu ½ off drinks • Fri ½ off apps + ½ off drinks
URL:https://entranceexperience.com/event/happy-hour-special/2027-04-22/
LOCATION:The Entrance (Front Entrance)\, 15101 Dixie Highway\, Harvey\, IL\, 60426\, United States
CATEGORIES:Weekday Event & Specials
ATTACH;FMTTYPE=image/png:https://entranceexperience.com/wp-content/uploads/2026/03/Happy-Hour-ENT.png
ORGANIZER;CN="The Entrance":MAILTO:info@entranceexperience.com
END:VEVENT
BEGIN:VEVENT
DTSTART;TZID=America/Chicago:20270423T150000
DTEND;TZID=America/Chicago:20270423T190000
DTSTAMP:20260422T171956
CREATED:20260303T000210Z
LAST-MODIFIED:20260303T000211Z
UID:10000938-1808492400-1808506800@entranceexperience.com
SUMMARY:Happy Hour Special
DESCRIPTION:Slide through for the best Happy Hour in the city \n3–7PM • Tue–Thu ½ off drinks • Fri ½ off apps + ½ off drinks
URL:https://entranceexperience.com/event/happy-hour-special/2027-04-23/
LOCATION:The Entrance (Front Entrance)\, 15101 Dixie Highway\, Harvey\, IL\, 60426\, United States
CATEGORIES:Weekday Event & Specials
ATTACH;FMTTYPE=image/png:https://entranceexperience.com/wp-content/uploads/2026/03/Happy-Hour-ENT.png
ORGANIZER;CN="The Entrance":MAILTO:info@entranceexperience.com
END:VEVENT
BEGIN:VEVENT
DTSTART;TZID=America/Chicago:20270427T150000
DTEND;TZID=America/Chicago:20270427T190000
DTSTAMP:20260422T171956
CREATED:20260303T000210Z
LAST-MODIFIED:20260303T000211Z
UID:10000939-1808838000-1808852400@entranceexperience.com
SUMMARY:Happy Hour Special
DESCRIPTION:Slide through for the best Happy Hour in the city \n3–7PM • Tue–Thu ½ off drinks • Fri ½ off apps + ½ off drinks
URL:https://entranceexperience.com/event/happy-hour-special/2027-04-27/
LOCATION:The Entrance (Front Entrance)\, 15101 Dixie Highway\, Harvey\, IL\, 60426\, United States
CATEGORIES:Weekday Event & Specials
ATTACH;FMTTYPE=image/png:https://entranceexperience.com/wp-content/uploads/2026/03/Happy-Hour-ENT.png
ORGANIZER;CN="The Entrance":MAILTO:info@entranceexperience.com
END:VEVENT
BEGIN:VEVENT
DTSTART;TZID=America/Chicago:20270428T150000
DTEND;TZID=America/Chicago:20270428T190000
DTSTAMP:20260422T171956
CREATED:20260303T000210Z
LAST-MODIFIED:20260303T000211Z
UID:10000940-1808924400-1808938800@entranceexperience.com
SUMMARY:Happy Hour Special
DESCRIPTION:Slide through for the best Happy Hour in the city \n3–7PM • Tue–Thu ½ off drinks • Fri ½ off apps + ½ off drinks
URL:https://entranceexperience.com/event/happy-hour-special/2027-04-28/
LOCATION:The Entrance (Front Entrance)\, 15101 Dixie Highway\, Harvey\, IL\, 60426\, United States
CATEGORIES:Weekday Event & Specials
ATTACH;FMTTYPE=image/png:https://entranceexperience.com/wp-content/uploads/2026/03/Happy-Hour-ENT.png
ORGANIZER;CN="The Entrance":MAILTO:info@entranceexperience.com
END:VEVENT
BEGIN:VEVENT
DTSTART;TZID=America/Chicago:20270429T150000
DTEND;TZID=America/Chicago:20270429T190000
DTSTAMP:20260422T171956
CREATED:20260303T000210Z
LAST-MODIFIED:20260303T000211Z
UID:10000941-1809010800-1809025200@entranceexperience.com
SUMMARY:Happy Hour Special
DESCRIPTION:Slide through for the best Happy Hour in the city \n3–7PM • Tue–Thu ½ off drinks • Fri ½ off apps + ½ off drinks
URL:https://entranceexperience.com/event/happy-hour-special/2027-04-29/
LOCATION:The Entrance (Front Entrance)\, 15101 Dixie Highway\, Harvey\, IL\, 60426\, United States
CATEGORIES:Weekday Event & Specials
ATTACH;FMTTYPE=image/png:https://entranceexperience.com/wp-content/uploads/2026/03/Happy-Hour-ENT.png
ORGANIZER;CN="The Entrance":MAILTO:info@entranceexperience.com
END:VEVENT
BEGIN:VEVENT
DTSTART;TZID=America/Chicago:20270430T150000
DTEND;TZID=America/Chicago:20270430T190000
DTSTAMP:20260422T171956
CREATED:20260303T000210Z
LAST-MODIFIED:20260303T000211Z
UID:10000942-1809097200-1809111600@entranceexperience.com
SUMMARY:Happy Hour Special
DESCRIPTION:Slide through for the best Happy Hour in the city \n3–7PM • Tue–Thu ½ off drinks • Fri ½ off apps + ½ off drinks
URL:https://entranceexperience.com/event/happy-hour-special/2027-04-30/
LOCATION:The Entrance (Front Entrance)\, 15101 Dixie Highway\, Harvey\, IL\, 60426\, United States
CATEGORIES:Weekday Event & Specials
ATTACH;FMTTYPE=image/png:https://entranceexperience.com/wp-content/uploads/2026/03/Happy-Hour-ENT.png
ORGANIZER;CN="The Entrance":MAILTO:info@entranceexperience.com
END:VEVENT
BEGIN:VEVENT
DTSTART;TZID=America/Chicago:20270504T150000
DTEND;TZID=America/Chicago:20270504T190000
DTSTAMP:20260422T171956
CREATED:20260303T000210Z
LAST-MODIFIED:20260303T000211Z
UID:10000943-1809442800-1809457200@entranceexperience.com
SUMMARY:Happy Hour Special
DESCRIPTION:Slide through for the best Happy Hour in the city \n3–7PM • Tue–Thu ½ off drinks • Fri ½ off apps + ½ off drinks
URL:https://entranceexperience.com/event/happy-hour-special/2027-05-04/
LOCATION:The Entrance (Front Entrance)\, 15101 Dixie Highway\, Harvey\, IL\, 60426\, United States
CATEGORIES:Weekday Event & Specials
ATTACH;FMTTYPE=image/png:https://entranceexperience.com/wp-content/uploads/2026/03/Happy-Hour-ENT.png
ORGANIZER;CN="The Entrance":MAILTO:info@entranceexperience.com
END:VEVENT
BEGIN:VEVENT
DTSTART;TZID=America/Chicago:20270505T150000
DTEND;TZID=America/Chicago:20270505T190000
DTSTAMP:20260422T171956
CREATED:20260303T000210Z
LAST-MODIFIED:20260303T000211Z
UID:10000944-1809529200-1809543600@entranceexperience.com
SUMMARY:Happy Hour Special
DESCRIPTION:Slide through for the best Happy Hour in the city \n3–7PM • Tue–Thu ½ off drinks • Fri ½ off apps + ½ off drinks
URL:https://entranceexperience.com/event/happy-hour-special/2027-05-05/
LOCATION:The Entrance (Front Entrance)\, 15101 Dixie Highway\, Harvey\, IL\, 60426\, United States
CATEGORIES:Weekday Event & Specials
ATTACH;FMTTYPE=image/png:https://entranceexperience.com/wp-content/uploads/2026/03/Happy-Hour-ENT.png
ORGANIZER;CN="The Entrance":MAILTO:info@entranceexperience.com
END:VEVENT
BEGIN:VEVENT
DTSTART;TZID=America/Chicago:20270506T150000
DTEND;TZID=America/Chicago:20270506T190000
DTSTAMP:20260422T171956
CREATED:20260303T000210Z
LAST-MODIFIED:20260303T000211Z
UID:10000945-1809615600-1809630000@entranceexperience.com
SUMMARY:Happy Hour Special
DESCRIPTION:Slide through for the best Happy Hour in the city \n3–7PM • Tue–Thu ½ off drinks • Fri ½ off apps + ½ off drinks
URL:https://entranceexperience.com/event/happy-hour-special/2027-05-06/
LOCATION:The Entrance (Front Entrance)\, 15101 Dixie Highway\, Harvey\, IL\, 60426\, United States
CATEGORIES:Weekday Event & Specials
ATTACH;FMTTYPE=image/png:https://entranceexperience.com/wp-content/uploads/2026/03/Happy-Hour-ENT.png
ORGANIZER;CN="The Entrance":MAILTO:info@entranceexperience.com
END:VEVENT
BEGIN:VEVENT
DTSTART;TZID=America/Chicago:20270507T150000
DTEND;TZID=America/Chicago:20270507T190000
DTSTAMP:20260422T171956
CREATED:20260303T000210Z
LAST-MODIFIED:20260303T000211Z
UID:10000946-1809702000-1809716400@entranceexperience.com
SUMMARY:Happy Hour Special
DESCRIPTION:Slide through for the best Happy Hour in the city \n3–7PM • Tue–Thu ½ off drinks • Fri ½ off apps + ½ off drinks
URL:https://entranceexperience.com/event/happy-hour-special/2027-05-07/
LOCATION:The Entrance (Front Entrance)\, 15101 Dixie Highway\, Harvey\, IL\, 60426\, United States
CATEGORIES:Weekday Event & Specials
ATTACH;FMTTYPE=image/png:https://entranceexperience.com/wp-content/uploads/2026/03/Happy-Hour-ENT.png
ORGANIZER;CN="The Entrance":MAILTO:info@entranceexperience.com
END:VEVENT
BEGIN:VEVENT
DTSTART;TZID=America/Chicago:20270511T150000
DTEND;TZID=America/Chicago:20270511T190000
DTSTAMP:20260422T171956
CREATED:20260303T000210Z
LAST-MODIFIED:20260303T000211Z
UID:10000947-1810047600-1810062000@entranceexperience.com
SUMMARY:Happy Hour Special
DESCRIPTION:Slide through for the best Happy Hour in the city \n3–7PM • Tue–Thu ½ off drinks • Fri ½ off apps + ½ off drinks
URL:https://entranceexperience.com/event/happy-hour-special/2027-05-11/
LOCATION:The Entrance (Front Entrance)\, 15101 Dixie Highway\, Harvey\, IL\, 60426\, United States
CATEGORIES:Weekday Event & Specials
ATTACH;FMTTYPE=image/png:https://entranceexperience.com/wp-content/uploads/2026/03/Happy-Hour-ENT.png
ORGANIZER;CN="The Entrance":MAILTO:info@entranceexperience.com
END:VEVENT
BEGIN:VEVENT
DTSTART;TZID=America/Chicago:20270512T150000
DTEND;TZID=America/Chicago:20270512T190000
DTSTAMP:20260422T171956
CREATED:20260303T000210Z
LAST-MODIFIED:20260303T000211Z
UID:10000948-1810134000-1810148400@entranceexperience.com
SUMMARY:Happy Hour Special
DESCRIPTION:Slide through for the best Happy Hour in the city \n3–7PM • Tue–Thu ½ off drinks • Fri ½ off apps + ½ off drinks
URL:https://entranceexperience.com/event/happy-hour-special/2027-05-12/
LOCATION:The Entrance (Front Entrance)\, 15101 Dixie Highway\, Harvey\, IL\, 60426\, United States
CATEGORIES:Weekday Event & Specials
ATTACH;FMTTYPE=image/png:https://entranceexperience.com/wp-content/uploads/2026/03/Happy-Hour-ENT.png
ORGANIZER;CN="The Entrance":MAILTO:info@entranceexperience.com
END:VEVENT
BEGIN:VEVENT
DTSTART;TZID=America/Chicago:20270513T150000
DTEND;TZID=America/Chicago:20270513T190000
DTSTAMP:20260422T171956
CREATED:20260303T000210Z
LAST-MODIFIED:20260303T000211Z
UID:10000949-1810220400-1810234800@entranceexperience.com
SUMMARY:Happy Hour Special
DESCRIPTION:Slide through for the best Happy Hour in the city \n3–7PM • Tue–Thu ½ off drinks • Fri ½ off apps + ½ off drinks
URL:https://entranceexperience.com/event/happy-hour-special/2027-05-13/
LOCATION:The Entrance (Front Entrance)\, 15101 Dixie Highway\, Harvey\, IL\, 60426\, United States
CATEGORIES:Weekday Event & Specials
ATTACH;FMTTYPE=image/png:https://entranceexperience.com/wp-content/uploads/2026/03/Happy-Hour-ENT.png
ORGANIZER;CN="The Entrance":MAILTO:info@entranceexperience.com
END:VEVENT
BEGIN:VEVENT
DTSTART;TZID=America/Chicago:20270514T150000
DTEND;TZID=America/Chicago:20270514T190000
DTSTAMP:20260422T171956
CREATED:20260303T000210Z
LAST-MODIFIED:20260303T000211Z
UID:10000950-1810306800-1810321200@entranceexperience.com
SUMMARY:Happy Hour Special
DESCRIPTION:Slide through for the best Happy Hour in the city \n3–7PM • Tue–Thu ½ off drinks • Fri ½ off apps + ½ off drinks
URL:https://entranceexperience.com/event/happy-hour-special/2027-05-14/
LOCATION:The Entrance (Front Entrance)\, 15101 Dixie Highway\, Harvey\, IL\, 60426\, United States
CATEGORIES:Weekday Event & Specials
ATTACH;FMTTYPE=image/png:https://entranceexperience.com/wp-content/uploads/2026/03/Happy-Hour-ENT.png
ORGANIZER;CN="The Entrance":MAILTO:info@entranceexperience.com
END:VEVENT
BEGIN:VEVENT
DTSTART;TZID=America/Chicago:20270518T150000
DTEND;TZID=America/Chicago:20270518T190000
DTSTAMP:20260422T171956
CREATED:20260303T000210Z
LAST-MODIFIED:20260303T000211Z
UID:10000951-1810652400-1810666800@entranceexperience.com
SUMMARY:Happy Hour Special
DESCRIPTION:Slide through for the best Happy Hour in the city \n3–7PM • Tue–Thu ½ off drinks • Fri ½ off apps + ½ off drinks
URL:https://entranceexperience.com/event/happy-hour-special/2027-05-18/
LOCATION:The Entrance (Front Entrance)\, 15101 Dixie Highway\, Harvey\, IL\, 60426\, United States
CATEGORIES:Weekday Event & Specials
ATTACH;FMTTYPE=image/png:https://entranceexperience.com/wp-content/uploads/2026/03/Happy-Hour-ENT.png
ORGANIZER;CN="The Entrance":MAILTO:info@entranceexperience.com
END:VEVENT
BEGIN:VEVENT
DTSTART;TZID=America/Chicago:20270519T150000
DTEND;TZID=America/Chicago:20270519T190000
DTSTAMP:20260422T171956
CREATED:20260303T000210Z
LAST-MODIFIED:20260303T000211Z
UID:10000952-1810738800-1810753200@entranceexperience.com
SUMMARY:Happy Hour Special
DESCRIPTION:Slide through for the best Happy Hour in the city \n3–7PM • Tue–Thu ½ off drinks • Fri ½ off apps + ½ off drinks
URL:https://entranceexperience.com/event/happy-hour-special/2027-05-19/
LOCATION:The Entrance (Front Entrance)\, 15101 Dixie Highway\, Harvey\, IL\, 60426\, United States
CATEGORIES:Weekday Event & Specials
ATTACH;FMTTYPE=image/png:https://entranceexperience.com/wp-content/uploads/2026/03/Happy-Hour-ENT.png
ORGANIZER;CN="The Entrance":MAILTO:info@entranceexperience.com
END:VEVENT
BEGIN:VEVENT
DTSTART;TZID=America/Chicago:20270520T150000
DTEND;TZID=America/Chicago:20270520T190000
DTSTAMP:20260422T171956
CREATED:20260303T000210Z
LAST-MODIFIED:20260303T000211Z
UID:10000953-1810825200-1810839600@entranceexperience.com
SUMMARY:Happy Hour Special
DESCRIPTION:Slide through for the best Happy Hour in the city \n3–7PM • Tue–Thu ½ off drinks • Fri ½ off apps + ½ off drinks
URL:https://entranceexperience.com/event/happy-hour-special/2027-05-20/
LOCATION:The Entrance (Front Entrance)\, 15101 Dixie Highway\, Harvey\, IL\, 60426\, United States
CATEGORIES:Weekday Event & Specials
ATTACH;FMTTYPE=image/png:https://entranceexperience.com/wp-content/uploads/2026/03/Happy-Hour-ENT.png
ORGANIZER;CN="The Entrance":MAILTO:info@entranceexperience.com
END:VEVENT
BEGIN:VEVENT
DTSTART;TZID=America/Chicago:20270521T150000
DTEND;TZID=America/Chicago:20270521T190000
DTSTAMP:20260422T171956
CREATED:20260303T000210Z
LAST-MODIFIED:20260303T000211Z
UID:10000954-1810911600-1810926000@entranceexperience.com
SUMMARY:Happy Hour Special
DESCRIPTION:Slide through for the best Happy Hour in the city \n3–7PM • Tue–Thu ½ off drinks • Fri ½ off apps + ½ off drinks
URL:https://entranceexperience.com/event/happy-hour-special/2027-05-21/
LOCATION:The Entrance (Front Entrance)\, 15101 Dixie Highway\, Harvey\, IL\, 60426\, United States
CATEGORIES:Weekday Event & Specials
ATTACH;FMTTYPE=image/png:https://entranceexperience.com/wp-content/uploads/2026/03/Happy-Hour-ENT.png
ORGANIZER;CN="The Entrance":MAILTO:info@entranceexperience.com
END:VEVENT
BEGIN:VEVENT
DTSTART;TZID=America/Chicago:20270525T150000
DTEND;TZID=America/Chicago:20270525T190000
DTSTAMP:20260422T171956
CREATED:20260303T000210Z
LAST-MODIFIED:20260303T000211Z
UID:10000955-1811257200-1811271600@entranceexperience.com
SUMMARY:Happy Hour Special
DESCRIPTION:Slide through for the best Happy Hour in the city \n3–7PM • Tue–Thu ½ off drinks • Fri ½ off apps + ½ off drinks
URL:https://entranceexperience.com/event/happy-hour-special/2027-05-25/
LOCATION:The Entrance (Front Entrance)\, 15101 Dixie Highway\, Harvey\, IL\, 60426\, United States
CATEGORIES:Weekday Event & Specials
ATTACH;FMTTYPE=image/png:https://entranceexperience.com/wp-content/uploads/2026/03/Happy-Hour-ENT.png
ORGANIZER;CN="The Entrance":MAILTO:info@entranceexperience.com
END:VEVENT
BEGIN:VEVENT
DTSTART;TZID=America/Chicago:20270526T150000
DTEND;TZID=America/Chicago:20270526T190000
DTSTAMP:20260422T171956
CREATED:20260303T000210Z
LAST-MODIFIED:20260303T000211Z
UID:10000956-1811343600-1811358000@entranceexperience.com
SUMMARY:Happy Hour Special
DESCRIPTION:Slide through for the best Happy Hour in the city \n3–7PM • Tue–Thu ½ off drinks • Fri ½ off apps + ½ off drinks
URL:https://entranceexperience.com/event/happy-hour-special/2027-05-26/
LOCATION:The Entrance (Front Entrance)\, 15101 Dixie Highway\, Harvey\, IL\, 60426\, United States
CATEGORIES:Weekday Event & Specials
ATTACH;FMTTYPE=image/png:https://entranceexperience.com/wp-content/uploads/2026/03/Happy-Hour-ENT.png
ORGANIZER;CN="The Entrance":MAILTO:info@entranceexperience.com
END:VEVENT
BEGIN:VEVENT
DTSTART;TZID=America/Chicago:20270527T150000
DTEND;TZID=America/Chicago:20270527T190000
DTSTAMP:20260422T171956
CREATED:20260303T000210Z
LAST-MODIFIED:20260303T000211Z
UID:10000957-1811430000-1811444400@entranceexperience.com
SUMMARY:Happy Hour Special
DESCRIPTION:Slide through for the best Happy Hour in the city \n3–7PM • Tue–Thu ½ off drinks • Fri ½ off apps + ½ off drinks
URL:https://entranceexperience.com/event/happy-hour-special/2027-05-27/
LOCATION:The Entrance (Front Entrance)\, 15101 Dixie Highway\, Harvey\, IL\, 60426\, United States
CATEGORIES:Weekday Event & Specials
ATTACH;FMTTYPE=image/png:https://entranceexperience.com/wp-content/uploads/2026/03/Happy-Hour-ENT.png
ORGANIZER;CN="The Entrance":MAILTO:info@entranceexperience.com
END:VEVENT
END:VCALENDAR