BEGIN:VCALENDAR
VERSION:2.0
PRODID:-//The Entrance Experience - ECPv6.15.20//NONSGML v1.0//EN
CALSCALE:GREGORIAN
METHOD:PUBLISH
X-WR-CALNAME:The Entrance Experience
X-ORIGINAL-URL:https://entranceexperience.com
X-WR-CALDESC:Events for The Entrance Experience
REFRESH-INTERVAL;VALUE=DURATION:PT1H
X-Robots-Tag:noindex
X-PUBLISHED-TTL:PT1H
BEGIN:VTIMEZONE
TZID:America/Chicago
BEGIN:DAYLIGHT
TZOFFSETFROM:-0600
TZOFFSETTO:-0500
TZNAME:CDT
DTSTART:20250309T080000
END:DAYLIGHT
BEGIN:STANDARD
TZOFFSETFROM:-0500
TZOFFSETTO:-0600
TZNAME:CST
DTSTART:20251102T070000
END:STANDARD
BEGIN:DAYLIGHT
TZOFFSETFROM:-0600
TZOFFSETTO:-0500
TZNAME:CDT
DTSTART:20260308T080000
END:DAYLIGHT
BEGIN:STANDARD
TZOFFSETFROM:-0500
TZOFFSETTO:-0600
TZNAME:CST
DTSTART:20261101T070000
END:STANDARD
BEGIN:DAYLIGHT
TZOFFSETFROM:-0600
TZOFFSETTO:-0500
TZNAME:CDT
DTSTART:20270314T080000
END:DAYLIGHT
BEGIN:STANDARD
TZOFFSETFROM:-0500
TZOFFSETTO:-0600
TZNAME:CST
DTSTART:20271107T070000
END:STANDARD
END:VTIMEZONE
BEGIN:VEVENT
DTSTART;TZID=America/Chicago:20261103T150000
DTEND;TZID=America/Chicago:20261103T190000
DTSTAMP:20260422T174036
CREATED:20260303T000210Z
LAST-MODIFIED:20260303T000211Z
UID:10000839-1793718000-1793732400@entranceexperience.com
SUMMARY:Happy Hour Special
DESCRIPTION:Slide through for the best Happy Hour in the city \n3–7PM • Tue–Thu ½ off drinks • Fri ½ off apps + ½ off drinks
URL:https://entranceexperience.com/event/happy-hour-special/2026-11-03/
LOCATION:The Entrance (Front Entrance)\, 15101 Dixie Highway\, Harvey\, IL\, 60426\, United States
CATEGORIES:Weekday Event & Specials
ATTACH;FMTTYPE=image/png:https://entranceexperience.com/wp-content/uploads/2026/03/Happy-Hour-ENT.png
ORGANIZER;CN="The Entrance":MAILTO:info@entranceexperience.com
END:VEVENT
BEGIN:VEVENT
DTSTART;TZID=America/Chicago:20261103T190000
DTEND;TZID=America/Chicago:20261103T233000
DTSTAMP:20260422T174036
CREATED:20260103T165258Z
LAST-MODIFIED:20260103T165258Z
UID:10000650-1793732400-1793748600@entranceexperience.com
SUMMARY:Taco Tuesday & Game Night
DESCRIPTION:
URL:https://entranceexperience.com/event/taco-tuesday-game-night/2026-11-03/
LOCATION:The Entrance (Front Entrance)\, 15101 Dixie Highway\, Harvey\, IL\, 60426\, United States
CATEGORIES:Weekday Event & Specials
ATTACH;FMTTYPE=image/png:https://entranceexperience.com/wp-content/uploads/2026/01/Taco-Tuesday-Final.png
ORGANIZER;CN="The Entrance":MAILTO:info@entranceexperience.com
END:VEVENT
BEGIN:VEVENT
DTSTART;TZID=America/Chicago:20261104T150000
DTEND;TZID=America/Chicago:20261104T190000
DTSTAMP:20260422T174036
CREATED:20260303T000210Z
LAST-MODIFIED:20260303T000211Z
UID:10000840-1793804400-1793818800@entranceexperience.com
SUMMARY:Happy Hour Special
DESCRIPTION:Slide through for the best Happy Hour in the city \n3–7PM • Tue–Thu ½ off drinks • Fri ½ off apps + ½ off drinks
URL:https://entranceexperience.com/event/happy-hour-special/2026-11-04/
LOCATION:The Entrance (Front Entrance)\, 15101 Dixie Highway\, Harvey\, IL\, 60426\, United States
CATEGORIES:Weekday Event & Specials
ATTACH;FMTTYPE=image/png:https://entranceexperience.com/wp-content/uploads/2026/03/Happy-Hour-ENT.png
ORGANIZER;CN="The Entrance":MAILTO:info@entranceexperience.com
END:VEVENT
BEGIN:VEVENT
DTSTART;TZID=America/Chicago:20261105T150000
DTEND;TZID=America/Chicago:20261105T190000
DTSTAMP:20260422T174036
CREATED:20260303T000210Z
LAST-MODIFIED:20260303T000211Z
UID:10000841-1793890800-1793905200@entranceexperience.com
SUMMARY:Happy Hour Special
DESCRIPTION:Slide through for the best Happy Hour in the city \n3–7PM • Tue–Thu ½ off drinks • Fri ½ off apps + ½ off drinks
URL:https://entranceexperience.com/event/happy-hour-special/2026-11-05/
LOCATION:The Entrance (Front Entrance)\, 15101 Dixie Highway\, Harvey\, IL\, 60426\, United States
CATEGORIES:Weekday Event & Specials
ATTACH;FMTTYPE=image/png:https://entranceexperience.com/wp-content/uploads/2026/03/Happy-Hour-ENT.png
ORGANIZER;CN="The Entrance":MAILTO:info@entranceexperience.com
END:VEVENT
BEGIN:VEVENT
DTSTART;TZID=America/Chicago:20261106T150000
DTEND;TZID=America/Chicago:20261106T190000
DTSTAMP:20260422T174036
CREATED:20260303T000210Z
LAST-MODIFIED:20260303T000211Z
UID:10000842-1793977200-1793991600@entranceexperience.com
SUMMARY:Happy Hour Special
DESCRIPTION:Slide through for the best Happy Hour in the city \n3–7PM • Tue–Thu ½ off drinks • Fri ½ off apps + ½ off drinks
URL:https://entranceexperience.com/event/happy-hour-special/2026-11-06/
LOCATION:The Entrance (Front Entrance)\, 15101 Dixie Highway\, Harvey\, IL\, 60426\, United States
CATEGORIES:Weekday Event & Specials
ATTACH;FMTTYPE=image/png:https://entranceexperience.com/wp-content/uploads/2026/03/Happy-Hour-ENT.png
ORGANIZER;CN="The Entrance":MAILTO:info@entranceexperience.com
END:VEVENT
BEGIN:VEVENT
DTSTART;TZID=America/Chicago:20261107T190000
DTEND;TZID=America/Chicago:20261107T233000
DTSTAMP:20260422T174036
CREATED:20260103T164521Z
LAST-MODIFIED:20260103T164848Z
UID:10000586-1794078000-1794094200@entranceexperience.com
SUMMARY:Front & Center Saturdays
DESCRIPTION:
URL:https://entranceexperience.com/event/front-center-saturdays/2026-11-07/
LOCATION:The Entrance (Front Entrance)\, 15101 Dixie Highway\, Harvey\, IL\, 60426\, United States
CATEGORIES:Party
ATTACH;FMTTYPE=image/png:https://entranceexperience.com/wp-content/uploads/2026/01/Front-Center-Saturdays.png
ORGANIZER;CN="The Entrance":MAILTO:info@entranceexperience.com
END:VEVENT
BEGIN:VEVENT
DTSTART;TZID=America/Chicago:20261110T150000
DTEND;TZID=America/Chicago:20261110T190000
DTSTAMP:20260422T174036
CREATED:20260303T000210Z
LAST-MODIFIED:20260303T000211Z
UID:10000843-1794322800-1794337200@entranceexperience.com
SUMMARY:Happy Hour Special
DESCRIPTION:Slide through for the best Happy Hour in the city \n3–7PM • Tue–Thu ½ off drinks • Fri ½ off apps + ½ off drinks
URL:https://entranceexperience.com/event/happy-hour-special/2026-11-10/
LOCATION:The Entrance (Front Entrance)\, 15101 Dixie Highway\, Harvey\, IL\, 60426\, United States
CATEGORIES:Weekday Event & Specials
ATTACH;FMTTYPE=image/png:https://entranceexperience.com/wp-content/uploads/2026/03/Happy-Hour-ENT.png
ORGANIZER;CN="The Entrance":MAILTO:info@entranceexperience.com
END:VEVENT
BEGIN:VEVENT
DTSTART;TZID=America/Chicago:20261110T190000
DTEND;TZID=America/Chicago:20261110T233000
DTSTAMP:20260422T174036
CREATED:20260103T165258Z
LAST-MODIFIED:20260103T165258Z
UID:10000651-1794337200-1794353400@entranceexperience.com
SUMMARY:Taco Tuesday & Game Night
DESCRIPTION:
URL:https://entranceexperience.com/event/taco-tuesday-game-night/2026-11-10/
LOCATION:The Entrance (Front Entrance)\, 15101 Dixie Highway\, Harvey\, IL\, 60426\, United States
CATEGORIES:Weekday Event & Specials
ATTACH;FMTTYPE=image/png:https://entranceexperience.com/wp-content/uploads/2026/01/Taco-Tuesday-Final.png
ORGANIZER;CN="The Entrance":MAILTO:info@entranceexperience.com
END:VEVENT
BEGIN:VEVENT
DTSTART;TZID=America/Chicago:20261111T150000
DTEND;TZID=America/Chicago:20261111T190000
DTSTAMP:20260422T174036
CREATED:20260303T000210Z
LAST-MODIFIED:20260303T000211Z
UID:10000844-1794409200-1794423600@entranceexperience.com
SUMMARY:Happy Hour Special
DESCRIPTION:Slide through for the best Happy Hour in the city \n3–7PM • Tue–Thu ½ off drinks • Fri ½ off apps + ½ off drinks
URL:https://entranceexperience.com/event/happy-hour-special/2026-11-11/
LOCATION:The Entrance (Front Entrance)\, 15101 Dixie Highway\, Harvey\, IL\, 60426\, United States
CATEGORIES:Weekday Event & Specials
ATTACH;FMTTYPE=image/png:https://entranceexperience.com/wp-content/uploads/2026/03/Happy-Hour-ENT.png
ORGANIZER;CN="The Entrance":MAILTO:info@entranceexperience.com
END:VEVENT
BEGIN:VEVENT
DTSTART;TZID=America/Chicago:20261112T150000
DTEND;TZID=America/Chicago:20261112T190000
DTSTAMP:20260422T174036
CREATED:20260303T000210Z
LAST-MODIFIED:20260303T000211Z
UID:10000845-1794495600-1794510000@entranceexperience.com
SUMMARY:Happy Hour Special
DESCRIPTION:Slide through for the best Happy Hour in the city \n3–7PM • Tue–Thu ½ off drinks • Fri ½ off apps + ½ off drinks
URL:https://entranceexperience.com/event/happy-hour-special/2026-11-12/
LOCATION:The Entrance (Front Entrance)\, 15101 Dixie Highway\, Harvey\, IL\, 60426\, United States
CATEGORIES:Weekday Event & Specials
ATTACH;FMTTYPE=image/png:https://entranceexperience.com/wp-content/uploads/2026/03/Happy-Hour-ENT.png
ORGANIZER;CN="The Entrance":MAILTO:info@entranceexperience.com
END:VEVENT
BEGIN:VEVENT
DTSTART;TZID=America/Chicago:20261113T150000
DTEND;TZID=America/Chicago:20261113T190000
DTSTAMP:20260422T174036
CREATED:20260303T000210Z
LAST-MODIFIED:20260303T000211Z
UID:10000846-1794582000-1794596400@entranceexperience.com
SUMMARY:Happy Hour Special
DESCRIPTION:Slide through for the best Happy Hour in the city \n3–7PM • Tue–Thu ½ off drinks • Fri ½ off apps + ½ off drinks
URL:https://entranceexperience.com/event/happy-hour-special/2026-11-13/
LOCATION:The Entrance (Front Entrance)\, 15101 Dixie Highway\, Harvey\, IL\, 60426\, United States
CATEGORIES:Weekday Event & Specials
ATTACH;FMTTYPE=image/png:https://entranceexperience.com/wp-content/uploads/2026/03/Happy-Hour-ENT.png
ORGANIZER;CN="The Entrance":MAILTO:info@entranceexperience.com
END:VEVENT
BEGIN:VEVENT
DTSTART;TZID=America/Chicago:20261114T190000
DTEND;TZID=America/Chicago:20261114T233000
DTSTAMP:20260422T174036
CREATED:20260103T164521Z
LAST-MODIFIED:20260103T164848Z
UID:10000587-1794682800-1794699000@entranceexperience.com
SUMMARY:Front & Center Saturdays
DESCRIPTION:
URL:https://entranceexperience.com/event/front-center-saturdays/2026-11-14/
LOCATION:The Entrance (Front Entrance)\, 15101 Dixie Highway\, Harvey\, IL\, 60426\, United States
CATEGORIES:Party
ATTACH;FMTTYPE=image/png:https://entranceexperience.com/wp-content/uploads/2026/01/Front-Center-Saturdays.png
ORGANIZER;CN="The Entrance":MAILTO:info@entranceexperience.com
END:VEVENT
BEGIN:VEVENT
DTSTART;TZID=America/Chicago:20261117T150000
DTEND;TZID=America/Chicago:20261117T190000
DTSTAMP:20260422T174036
CREATED:20260303T000210Z
LAST-MODIFIED:20260303T000211Z
UID:10000847-1794927600-1794942000@entranceexperience.com
SUMMARY:Happy Hour Special
DESCRIPTION:Slide through for the best Happy Hour in the city \n3–7PM • Tue–Thu ½ off drinks • Fri ½ off apps + ½ off drinks
URL:https://entranceexperience.com/event/happy-hour-special/2026-11-17/
LOCATION:The Entrance (Front Entrance)\, 15101 Dixie Highway\, Harvey\, IL\, 60426\, United States
CATEGORIES:Weekday Event & Specials
ATTACH;FMTTYPE=image/png:https://entranceexperience.com/wp-content/uploads/2026/03/Happy-Hour-ENT.png
ORGANIZER;CN="The Entrance":MAILTO:info@entranceexperience.com
END:VEVENT
BEGIN:VEVENT
DTSTART;TZID=America/Chicago:20261117T190000
DTEND;TZID=America/Chicago:20261117T233000
DTSTAMP:20260422T174036
CREATED:20260103T165258Z
LAST-MODIFIED:20260103T165258Z
UID:10000652-1794942000-1794958200@entranceexperience.com
SUMMARY:Taco Tuesday & Game Night
DESCRIPTION:
URL:https://entranceexperience.com/event/taco-tuesday-game-night/2026-11-17/
LOCATION:The Entrance (Front Entrance)\, 15101 Dixie Highway\, Harvey\, IL\, 60426\, United States
CATEGORIES:Weekday Event & Specials
ATTACH;FMTTYPE=image/png:https://entranceexperience.com/wp-content/uploads/2026/01/Taco-Tuesday-Final.png
ORGANIZER;CN="The Entrance":MAILTO:info@entranceexperience.com
END:VEVENT
BEGIN:VEVENT
DTSTART;TZID=America/Chicago:20261118T150000
DTEND;TZID=America/Chicago:20261118T190000
DTSTAMP:20260422T174036
CREATED:20260303T000210Z
LAST-MODIFIED:20260303T000211Z
UID:10000848-1795014000-1795028400@entranceexperience.com
SUMMARY:Happy Hour Special
DESCRIPTION:Slide through for the best Happy Hour in the city \n3–7PM • Tue–Thu ½ off drinks • Fri ½ off apps + ½ off drinks
URL:https://entranceexperience.com/event/happy-hour-special/2026-11-18/
LOCATION:The Entrance (Front Entrance)\, 15101 Dixie Highway\, Harvey\, IL\, 60426\, United States
CATEGORIES:Weekday Event & Specials
ATTACH;FMTTYPE=image/png:https://entranceexperience.com/wp-content/uploads/2026/03/Happy-Hour-ENT.png
ORGANIZER;CN="The Entrance":MAILTO:info@entranceexperience.com
END:VEVENT
BEGIN:VEVENT
DTSTART;TZID=America/Chicago:20261119T150000
DTEND;TZID=America/Chicago:20261119T190000
DTSTAMP:20260422T174036
CREATED:20260303T000210Z
LAST-MODIFIED:20260303T000211Z
UID:10000849-1795100400-1795114800@entranceexperience.com
SUMMARY:Happy Hour Special
DESCRIPTION:Slide through for the best Happy Hour in the city \n3–7PM • Tue–Thu ½ off drinks • Fri ½ off apps + ½ off drinks
URL:https://entranceexperience.com/event/happy-hour-special/2026-11-19/
LOCATION:The Entrance (Front Entrance)\, 15101 Dixie Highway\, Harvey\, IL\, 60426\, United States
CATEGORIES:Weekday Event & Specials
ATTACH;FMTTYPE=image/png:https://entranceexperience.com/wp-content/uploads/2026/03/Happy-Hour-ENT.png
ORGANIZER;CN="The Entrance":MAILTO:info@entranceexperience.com
END:VEVENT
BEGIN:VEVENT
DTSTART;TZID=America/Chicago:20261120T150000
DTEND;TZID=America/Chicago:20261120T190000
DTSTAMP:20260422T174036
CREATED:20260303T000210Z
LAST-MODIFIED:20260303T000211Z
UID:10000850-1795186800-1795201200@entranceexperience.com
SUMMARY:Happy Hour Special
DESCRIPTION:Slide through for the best Happy Hour in the city \n3–7PM • Tue–Thu ½ off drinks • Fri ½ off apps + ½ off drinks
URL:https://entranceexperience.com/event/happy-hour-special/2026-11-20/
LOCATION:The Entrance (Front Entrance)\, 15101 Dixie Highway\, Harvey\, IL\, 60426\, United States
CATEGORIES:Weekday Event & Specials
ATTACH;FMTTYPE=image/png:https://entranceexperience.com/wp-content/uploads/2026/03/Happy-Hour-ENT.png
ORGANIZER;CN="The Entrance":MAILTO:info@entranceexperience.com
END:VEVENT
BEGIN:VEVENT
DTSTART;TZID=America/Chicago:20261121T190000
DTEND;TZID=America/Chicago:20261121T233000
DTSTAMP:20260422T174036
CREATED:20260103T164521Z
LAST-MODIFIED:20260103T164848Z
UID:10000588-1795287600-1795303800@entranceexperience.com
SUMMARY:Front & Center Saturdays
DESCRIPTION:
URL:https://entranceexperience.com/event/front-center-saturdays/2026-11-21/
LOCATION:The Entrance (Front Entrance)\, 15101 Dixie Highway\, Harvey\, IL\, 60426\, United States
CATEGORIES:Party
ATTACH;FMTTYPE=image/png:https://entranceexperience.com/wp-content/uploads/2026/01/Front-Center-Saturdays.png
ORGANIZER;CN="The Entrance":MAILTO:info@entranceexperience.com
END:VEVENT
BEGIN:VEVENT
DTSTART;TZID=America/Chicago:20261124T150000
DTEND;TZID=America/Chicago:20261124T190000
DTSTAMP:20260422T174036
CREATED:20260303T000210Z
LAST-MODIFIED:20260303T000211Z
UID:10000851-1795532400-1795546800@entranceexperience.com
SUMMARY:Happy Hour Special
DESCRIPTION:Slide through for the best Happy Hour in the city \n3–7PM • Tue–Thu ½ off drinks • Fri ½ off apps + ½ off drinks
URL:https://entranceexperience.com/event/happy-hour-special/2026-11-24/
LOCATION:The Entrance (Front Entrance)\, 15101 Dixie Highway\, Harvey\, IL\, 60426\, United States
CATEGORIES:Weekday Event & Specials
ATTACH;FMTTYPE=image/png:https://entranceexperience.com/wp-content/uploads/2026/03/Happy-Hour-ENT.png
ORGANIZER;CN="The Entrance":MAILTO:info@entranceexperience.com
END:VEVENT
BEGIN:VEVENT
DTSTART;TZID=America/Chicago:20261124T190000
DTEND;TZID=America/Chicago:20261124T233000
DTSTAMP:20260422T174036
CREATED:20260103T165258Z
LAST-MODIFIED:20260103T165258Z
UID:10000653-1795546800-1795563000@entranceexperience.com
SUMMARY:Taco Tuesday & Game Night
DESCRIPTION:
URL:https://entranceexperience.com/event/taco-tuesday-game-night/2026-11-24/
LOCATION:The Entrance (Front Entrance)\, 15101 Dixie Highway\, Harvey\, IL\, 60426\, United States
CATEGORIES:Weekday Event & Specials
ATTACH;FMTTYPE=image/png:https://entranceexperience.com/wp-content/uploads/2026/01/Taco-Tuesday-Final.png
ORGANIZER;CN="The Entrance":MAILTO:info@entranceexperience.com
END:VEVENT
BEGIN:VEVENT
DTSTART;TZID=America/Chicago:20261125T150000
DTEND;TZID=America/Chicago:20261125T190000
DTSTAMP:20260422T174036
CREATED:20260303T000210Z
LAST-MODIFIED:20260303T000211Z
UID:10000852-1795618800-1795633200@entranceexperience.com
SUMMARY:Happy Hour Special
DESCRIPTION:Slide through for the best Happy Hour in the city \n3–7PM • Tue–Thu ½ off drinks • Fri ½ off apps + ½ off drinks
URL:https://entranceexperience.com/event/happy-hour-special/2026-11-25/
LOCATION:The Entrance (Front Entrance)\, 15101 Dixie Highway\, Harvey\, IL\, 60426\, United States
CATEGORIES:Weekday Event & Specials
ATTACH;FMTTYPE=image/png:https://entranceexperience.com/wp-content/uploads/2026/03/Happy-Hour-ENT.png
ORGANIZER;CN="The Entrance":MAILTO:info@entranceexperience.com
END:VEVENT
BEGIN:VEVENT
DTSTART;TZID=America/Chicago:20261126T150000
DTEND;TZID=America/Chicago:20261126T190000
DTSTAMP:20260422T174036
CREATED:20260303T000210Z
LAST-MODIFIED:20260303T000211Z
UID:10000853-1795705200-1795719600@entranceexperience.com
SUMMARY:Happy Hour Special
DESCRIPTION:Slide through for the best Happy Hour in the city \n3–7PM • Tue–Thu ½ off drinks • Fri ½ off apps + ½ off drinks
URL:https://entranceexperience.com/event/happy-hour-special/2026-11-26/
LOCATION:The Entrance (Front Entrance)\, 15101 Dixie Highway\, Harvey\, IL\, 60426\, United States
CATEGORIES:Weekday Event & Specials
ATTACH;FMTTYPE=image/png:https://entranceexperience.com/wp-content/uploads/2026/03/Happy-Hour-ENT.png
ORGANIZER;CN="The Entrance":MAILTO:info@entranceexperience.com
END:VEVENT
BEGIN:VEVENT
DTSTART;TZID=America/Chicago:20261127T150000
DTEND;TZID=America/Chicago:20261127T190000
DTSTAMP:20260422T174036
CREATED:20260303T000210Z
LAST-MODIFIED:20260303T000211Z
UID:10000854-1795791600-1795806000@entranceexperience.com
SUMMARY:Happy Hour Special
DESCRIPTION:Slide through for the best Happy Hour in the city \n3–7PM • Tue–Thu ½ off drinks • Fri ½ off apps + ½ off drinks
URL:https://entranceexperience.com/event/happy-hour-special/2026-11-27/
LOCATION:The Entrance (Front Entrance)\, 15101 Dixie Highway\, Harvey\, IL\, 60426\, United States
CATEGORIES:Weekday Event & Specials
ATTACH;FMTTYPE=image/png:https://entranceexperience.com/wp-content/uploads/2026/03/Happy-Hour-ENT.png
ORGANIZER;CN="The Entrance":MAILTO:info@entranceexperience.com
END:VEVENT
BEGIN:VEVENT
DTSTART;TZID=America/Chicago:20261128T190000
DTEND;TZID=America/Chicago:20261128T233000
DTSTAMP:20260422T174036
CREATED:20260103T164521Z
LAST-MODIFIED:20260103T164848Z
UID:10000589-1795892400-1795908600@entranceexperience.com
SUMMARY:Front & Center Saturdays
DESCRIPTION:
URL:https://entranceexperience.com/event/front-center-saturdays/2026-11-28/
LOCATION:The Entrance (Front Entrance)\, 15101 Dixie Highway\, Harvey\, IL\, 60426\, United States
CATEGORIES:Party
ATTACH;FMTTYPE=image/png:https://entranceexperience.com/wp-content/uploads/2026/01/Front-Center-Saturdays.png
ORGANIZER;CN="The Entrance":MAILTO:info@entranceexperience.com
END:VEVENT
BEGIN:VEVENT
DTSTART;TZID=America/Chicago:20261201T150000
DTEND;TZID=America/Chicago:20261201T190000
DTSTAMP:20260422T174036
CREATED:20260303T000210Z
LAST-MODIFIED:20260303T000211Z
UID:10000855-1796137200-1796151600@entranceexperience.com
SUMMARY:Happy Hour Special
DESCRIPTION:Slide through for the best Happy Hour in the city \n3–7PM • Tue–Thu ½ off drinks • Fri ½ off apps + ½ off drinks
URL:https://entranceexperience.com/event/happy-hour-special/2026-12-01/
LOCATION:The Entrance (Front Entrance)\, 15101 Dixie Highway\, Harvey\, IL\, 60426\, United States
CATEGORIES:Weekday Event & Specials
ATTACH;FMTTYPE=image/png:https://entranceexperience.com/wp-content/uploads/2026/03/Happy-Hour-ENT.png
ORGANIZER;CN="The Entrance":MAILTO:info@entranceexperience.com
END:VEVENT
BEGIN:VEVENT
DTSTART;TZID=America/Chicago:20261201T190000
DTEND;TZID=America/Chicago:20261201T233000
DTSTAMP:20260422T174036
CREATED:20260103T165258Z
LAST-MODIFIED:20260103T165258Z
UID:10000654-1796151600-1796167800@entranceexperience.com
SUMMARY:Taco Tuesday & Game Night
DESCRIPTION:
URL:https://entranceexperience.com/event/taco-tuesday-game-night/2026-12-01/
LOCATION:The Entrance (Front Entrance)\, 15101 Dixie Highway\, Harvey\, IL\, 60426\, United States
CATEGORIES:Weekday Event & Specials
ATTACH;FMTTYPE=image/png:https://entranceexperience.com/wp-content/uploads/2026/01/Taco-Tuesday-Final.png
ORGANIZER;CN="The Entrance":MAILTO:info@entranceexperience.com
END:VEVENT
BEGIN:VEVENT
DTSTART;TZID=America/Chicago:20261202T150000
DTEND;TZID=America/Chicago:20261202T190000
DTSTAMP:20260422T174036
CREATED:20260303T000210Z
LAST-MODIFIED:20260303T000211Z
UID:10000856-1796223600-1796238000@entranceexperience.com
SUMMARY:Happy Hour Special
DESCRIPTION:Slide through for the best Happy Hour in the city \n3–7PM • Tue–Thu ½ off drinks • Fri ½ off apps + ½ off drinks
URL:https://entranceexperience.com/event/happy-hour-special/2026-12-02/
LOCATION:The Entrance (Front Entrance)\, 15101 Dixie Highway\, Harvey\, IL\, 60426\, United States
CATEGORIES:Weekday Event & Specials
ATTACH;FMTTYPE=image/png:https://entranceexperience.com/wp-content/uploads/2026/03/Happy-Hour-ENT.png
ORGANIZER;CN="The Entrance":MAILTO:info@entranceexperience.com
END:VEVENT
BEGIN:VEVENT
DTSTART;TZID=America/Chicago:20261203T150000
DTEND;TZID=America/Chicago:20261203T190000
DTSTAMP:20260422T174036
CREATED:20260303T000210Z
LAST-MODIFIED:20260303T000211Z
UID:10000857-1796310000-1796324400@entranceexperience.com
SUMMARY:Happy Hour Special
DESCRIPTION:Slide through for the best Happy Hour in the city \n3–7PM • Tue–Thu ½ off drinks • Fri ½ off apps + ½ off drinks
URL:https://entranceexperience.com/event/happy-hour-special/2026-12-03/
LOCATION:The Entrance (Front Entrance)\, 15101 Dixie Highway\, Harvey\, IL\, 60426\, United States
CATEGORIES:Weekday Event & Specials
ATTACH;FMTTYPE=image/png:https://entranceexperience.com/wp-content/uploads/2026/03/Happy-Hour-ENT.png
ORGANIZER;CN="The Entrance":MAILTO:info@entranceexperience.com
END:VEVENT
BEGIN:VEVENT
DTSTART;TZID=America/Chicago:20261204T150000
DTEND;TZID=America/Chicago:20261204T190000
DTSTAMP:20260422T174036
CREATED:20260303T000210Z
LAST-MODIFIED:20260303T000211Z
UID:10000858-1796396400-1796410800@entranceexperience.com
SUMMARY:Happy Hour Special
DESCRIPTION:Slide through for the best Happy Hour in the city \n3–7PM • Tue–Thu ½ off drinks • Fri ½ off apps + ½ off drinks
URL:https://entranceexperience.com/event/happy-hour-special/2026-12-04/
LOCATION:The Entrance (Front Entrance)\, 15101 Dixie Highway\, Harvey\, IL\, 60426\, United States
CATEGORIES:Weekday Event & Specials
ATTACH;FMTTYPE=image/png:https://entranceexperience.com/wp-content/uploads/2026/03/Happy-Hour-ENT.png
ORGANIZER;CN="The Entrance":MAILTO:info@entranceexperience.com
END:VEVENT
BEGIN:VEVENT
DTSTART;TZID=America/Chicago:20261205T190000
DTEND;TZID=America/Chicago:20261205T233000
DTSTAMP:20260422T174036
CREATED:20260103T164521Z
LAST-MODIFIED:20260103T164848Z
UID:10000590-1796497200-1796513400@entranceexperience.com
SUMMARY:Front & Center Saturdays
DESCRIPTION:
URL:https://entranceexperience.com/event/front-center-saturdays/2026-12-05/
LOCATION:The Entrance (Front Entrance)\, 15101 Dixie Highway\, Harvey\, IL\, 60426\, United States
CATEGORIES:Party
ATTACH;FMTTYPE=image/png:https://entranceexperience.com/wp-content/uploads/2026/01/Front-Center-Saturdays.png
ORGANIZER;CN="The Entrance":MAILTO:info@entranceexperience.com
END:VEVENT
END:VCALENDAR